Workbook
Name sqlEnd: Dagsplanering!$G$7
Name sqlEnd: TimPlanering!$G$7
Name sqlEnd: Veckoplanering!$G$7
Name sqlEnd: #REF!
Name sqlStaff: Dagsplanering!$A$7
Name sqlStaff: TimPlanering!$A$7
Name sqlStaff: Veckoplanering!$A$7
Name sqlStaff: #REF!
Name sqlStart: Dagsplanering!$C$7
Name sqlStart: TimPlanering!$C$7
Name sqlStart: Veckoplanering!$C$7
Name sqlStart: #REF!
Name sqlStatus: Dagsplanering!$E$7
Name sqlStatus: TimPlanering!$E$7
Name sqlStatus: Veckoplanering!$E$7
Name sqlStatus: #REF!

Sheet Dagsplanering
K1: Visa text | M1: 1_Tilldelad | N1: KalleOStina | O1: =COUNTIFS(O$11:O$58,$N1) -> 0 | P1: =COUNTIFS(P$11:P$58,$N1) -> 0 | Q1: =COUNTIFS(Q$11:Q$58,$N1) -> 0 | R1: =COUNTIFS(R$11:R$58,$N1) -> 0 | S1: =COUNTIFS(S$11:S$58,$N1) -> 3 | T1: =COUNTIFS(T$11:T$58,$N1) -> 3 | U1: =COUNTIFS(U$11:U$58,$N1) -> 3 | V1: =COUNTIFS(V$11:V$58,$N1) -> 3 | ... JX1: =COUNTIFS(JX$11:JX$58,$N1) -> 0
K2: Ansvarig | M2: 2_Påbörjad | N2: Stina | O2: =COUNTIFS(O$11:O$58,$N2) -> 0 | P2: =COUNTIFS(P$11:P$58,$N2) -> 0 | Q2: =COUNTIFS(Q$11:Q$58,$N2) -> 0 | R2: =COUNTIFS(R$11:R$58,$N2) -> 0 | S2: =COUNTIFS(S$11:S$58,$N2) -> 0 | T2: =COUNTIFS(T$11:T$58,$N2) -> 0 | U2: =COUNTIFS(U$11:U$58,$N2) -> 0 | V2: =COUNTIFS(V$11:V$58,$N2) -> 0 | ... JX2: =COUNTIFS(JX$11:JX$58,$N2) -> 0
K3: Färga efter | M3: 6_Avslutad | N3: Kalle | O3: =COUNTIFS(O$11:O$58,$N3) -> 0 | P3: =COUNTIFS(P$11:P$58,$N3) -> 0 | Q3: =COUNTIFS(Q$11:Q$58,$N3) -> 0 | R3: =COUNTIFS(R$11:R$58,$N3) -> 0 | S3: =COUNTIFS(S$11:S$58,$N3) -> 0 | T3: =COUNTIFS(T$11:T$58,$N3) -> 0 | U3: =COUNTIFS(U$11:U$58,$N3) -> 0 | V3: =COUNTIFS(V$11:V$58,$N3) -> 0 | ... JX3: =COUNTIFS(JX$11:JX$58,$N3) -> 0
A4: SAVED | B4: 45348.44 | K4: Ansvarig | M4: 97_InväntarSvar | N4: Planerare | O4: =COUNTIFS(O$11:O$58,$N4) -> 0 | P4: =COUNTIFS(P$11:P$58,$N4) -> 0 | Q4: =COUNTIFS(Q$11:Q$58,$N4) -> 0 | R4: =COUNTIFS(R$11:R$58,$N4) -> 0 | S4: =COUNTIFS(S$11:S$58,$N4) -> 0 | T4: =COUNTIFS(T$11:T$58,$N4) -> 0 | U4: =COUNTIFS(U$11:U$58,$N4) -> 0 | V4: =COUNTIFS(V$11:V$58,$N4) -> 0 | ... JX4: =COUNTIFS(JX$11:JX$58,$N4) -> 0
A5: LOAD | B5: 45348.441 | K5: Tidsintervall | M5: 50_Saknas | N5: Gäster | O5: =COUNTIFS(O$11:O$58,$N5) -> 0 | P5: =COUNTIFS(P$11:P$58,$N5) -> 0 | Q5: =COUNTIFS(Q$11:Q$58,$N5) -> 0 | R5: =COUNTIFS(R$11:R$58,$N5) -> 0 | S5: =COUNTIFS(S$11:S$58,$N5) -> 0 | T5: =COUNTIFS(T$11:T$58,$N5) -> 0 | U5: =COUNTIFS(U$11:U$58,$N5) -> 0 | V5: =COUNTIFS(V$11:V$58,$N5) -> 0 | ... JX5: =COUNTIFS(JX$11:JX$58,$N5) -> 0
K6: 46023 | M6: 98_ErbjudandeSkickat | N6: Funktion2 | O6: =COUNTIFS(O$11:O$58,$N6) -> 0 | P6: =COUNTIFS(P$11:P$58,$N6) -> 0 | Q6: =COUNTIFS(Q$11:Q$58,$N6) -> 0 | R6: =COUNTIFS(R$11:R$58,$N6) -> 0 | S6: =COUNTIFS(S$11:S$58,$N6) -> 0 | T6: =COUNTIFS(T$11:T$58,$N6) -> 0 | U6: =COUNTIFS(U$11:U$58,$N6) -> 0 | V6: =COUNTIFS(V$11:V$58,$N6) -> 0 | ... JX6: =COUNTIFS(JX$11:JX$58,$N6) -> 0
K7: Tidsintervall | M7: 99_Avstyrt | N7: Funktion3 | O7: =COUNTIFS(O$11:O$58,$N7) -> 0 | P7: =COUNTIFS(P$11:P$58,$N7) -> 0 | Q7: =COUNTIFS(Q$11:Q$58,$N7) -> 0 | R7: =COUNTIFS(R$11:R$58,$N7) -> 0 | S7: =COUNTIFS(S$11:S$58,$N7) -> 0 | T7: =COUNTIFS(T$11:T$58,$N7) -> 0 | U7: =COUNTIFS(U$11:U$58,$N7) -> 0 | V7: =COUNTIFS(V$11:V$58,$N7) -> 0 | ... JX7: =COUNTIFS(JX$11:JX$58,$N7) -> 0
K8: 1 | M8: 0_Problem | N8: Total | O8: =IF(MONTH(O9)=MONTH(N9),"",MONTH(O9)) | P8: =IF(MONTH(P9)=MONTH(O9),"",MONTH(P9)) | Q8: =IF(MONTH(Q9)=MONTH(P9),"",MONTH(Q9)) | R8: =IF(MONTH(R9)=MONTH(Q9),"",MONTH(R9)) | S8: =IF(MONTH(S9)=MONTH(R9),"",MONTH(S9)) | T8: =IF(MONTH(T9)=MONTH(S9),"",MONTH(T9)) | U8: =IF(MONTH(U9)=MONTH(T9),"",MONTH(U9)) | V8: =IF(MONTH(V9)=MONTH(U9),"",MONTH(V9)) | ... JX8: =IF(MONTH(JX9)=MONTH(JW9),"",MONTH(JX9))
O9: =K6 -> 46023 | P9: =O9+$K$8 -> 46024 | Q9: =P9+$K$8 -> 46025 | R9: =Q9+$K$8 -> 46026 | S9: =R9+$K$8 -> 46027 | T9: =S9+$K$8 -> 46028 | U9: =T9+$K$8 -> 46029 | V9: =U9+$K$8 -> 46030 | W9: =V9+$K$8 -> 46031 | ... JX9: =JW9+$K$8 -> 46292
A10: _Key | B10: Projekt | C10: Namn | D10: Ansvarig | E10: Status | F10: StartDatum | G10: SlutDatum | H10: Timmar | I10: Kategori | J10: Plannerat Datum | K10: Kommentar | L10: Prio | M10: Beskrivning | O10: =O9 -> 46023 | P10: =IF(COUNTIFS(Admin!$K$3:$K$60,Dagsplanering!P$9)>0,"Röd",Dagsplanering!P$9) -> 46024 | Q10: =IF(COUNTIFS(Admin!$K$3:$K$60,Dagsplanering!Q$9)>0,"Röd",Dagsplanering!Q$9) -> 46025 | R10: =IF(COUNTIFS(Admin!$K$3:$K$60,Dagsplanering!R$9)>0,"Röd",Dagsplanering!R$9) -> 46026 | S10: =IF(COUNTIFS(Admin!$K$3:$K$60,Dagsplanering!S$9)>0,"Röd",Dagsplanering!S$9) -> 46027 | T10: =IF(COUNTIFS(Admin!$K$3:$K$60,Dagsplanering!T$9)>0,"Röd",Dagsplanering!T$9) -> Röd | U10: =IF(COUNTIFS(Admin!$K$3:$K$60,Dagsplanering!U$9)>0,"Röd",Dagsplanering!U$9) -> 46029 | V10: =IF(COUNTIFS(Admin!$K$3:$K$60,Dagsplanering!V$9)>0,"Röd",Dagsplanering!V$9) -> 46030 | W10: =IF(COUNTIFS(Admin!$K$3:$K$60,Dagsplanering!W$9)>0,"Röd",Dagsplanering!W$9) -> 46031 | ... JX10: =IF(COUNTIFS(Admin!$K$3:$K$60,Dagsplanering!JX$9)>0,"Röd",Dagsplanering!JX$9) -> 46292
B11: Beslut | D11: Total | H11: 1 | O11: =IF(AND(O$9+($K$8/60)/24>=$F11,O$9<=$G11),IF($K$2="Projekt",$B11, IF($K$2="Ansvarig",$D11,IF($K$2="Status",$E11,IF($K$2="Timmar",IFERROR($H11/($G11-$F11),1),"-")))),"") | P11: =IF(AND(P$9+($K$8/60)/24>=$F11,P$9<=$G11),IF($K$2="Projekt",$B11, IF($K$2="Ansvarig",$D11,IF($K$2="Status",$E11,IF($K$2="Timmar",IFERROR($H11/($G11-$F11),1),"-")))),"") | Q11: =IF(AND(Q$9+($K$8/60)/24>=$F11,Q$9<=$G11),IF($K$2="Projekt",$B11, IF($K$2="Ansvarig",$D11,IF($K$2="Status",$E11,IF($K$2="Timmar",IFERROR($H11/($G11-$F11),1),"-")))),"") | R11: =IF(AND(R$9+($K$8/60)/24>=$F11,R$9<=$G11),IF($K$2="Projekt",$B11, IF($K$2="Ansvarig",$D11,IF($K$2="Status",$E11,IF($K$2="Timmar",IFERROR($H11/($G11-$F11),1),"-")))),"") | S11: =IF(AND(S$9+($K$8/60)/24>=$F11,S$9<=$G11),IF($K$2="Projekt",$B11, IF($K$2="Ansvarig",$D11,IF($K$2="Status",$E11,IF($K$2="Timmar",IFERROR($H11/($G11-$F11),1),"-")))),"") | T11: =IF(AND(T$9+($K$8/60)/24>=$F11,T$9<=$G11),IF($K$2="Projekt",$B11, IF($K$2="Ansvarig",$D11,IF($K$2="Status",$E11,IF($K$2="Timmar",IFERROR($H11/($G11-$F11),1),"-")))),"") | U11: =IF(AND(U$9+($K$8/60)/24>=$F11,U$9<=$G11),IF($K$2="Projekt",$B11, IF($K$2="Ansvarig",$D11,IF($K$2="Status",$E11,IF($K$2="Timmar",IFERROR($H11/($G11-$F11),1),"-")))),"") | V11: =IF(AND(V$9+($K$8/60)/24>=$F11,V$9<=$G11),IF($K$2="Projekt",$B11, IF($K$2="Ansvarig",$D11,IF($K$2="Status",$E11,IF($K$2="Timmar",IFERROR($H11/($G11-$F11),1),"-")))),"") | ... JX11: =IF(AND(JX$9+($K$8/60)/24>=$F11,JX$9<=$G11),IF($K$2="Projekt",$B11, IF($K$2="Ansvarig",$D11,IF($K$2="Status",$E11,IF($K$2="Timmar",IFERROR($H11/($G11-$F11),1),"-")))),"")
B12: Datum eller ungefärlig period | D12: KalleOStina | E12: 6_Avslutad | F12: 46027 | G12: 46041 | H12: 2 | O12: =IF(AND(O$9+($K$8/60)/24>=$F12,O$9<=$G12),IF($K$2="Projekt",$B12, IF($K$2="Ansvarig",$D12,IF($K$2="Status",$E12,IF($K$2="Timmar",IFERROR($H12/($G12-$F12),1),"-")))),"") | P12: =IF(AND(P$9+($K$8/60)/24>=$F12,P$9<=$G12),IF($K$2="Projekt",$B12, IF($K$2="Ansvarig",$D12,IF($K$2="Status",$E12,IF($K$2="Timmar",IFERROR($H12/($G12-$F12),1),"-")))),"") | Q12: =IF(AND(Q$9+($K$8/60)/24>=$F12,Q$9<=$G12),IF($K$2="Projekt",$B12, IF($K$2="Ansvarig",$D12,IF($K$2="Status",$E12,IF($K$2="Timmar",IFERROR($H12/($G12-$F12),1),"-")))),"") | R12: =IF(AND(R$9+($K$8/60)/24>=$F12,R$9<=$G12),IF($K$2="Projekt",$B12, IF($K$2="Ansvarig",$D12,IF($K$2="Status",$E12,IF($K$2="Timmar",IFERROR($H12/($G12-$F12),1),"-")))),"") | S12: =IF(AND(S$9+($K$8/60)/24>=$F12,S$9<=$G12),IF($K$2="Projekt",$B12, IF($K$2="Ansvarig",$D12,IF($K$2="Status",$E12,IF($K$2="Timmar",IFERROR($H12/($G12-$F12),1),"-")))),"") -> KalleOStina | T12: =IF(AND(T$9+($K$8/60)/24>=$F12,T$9<=$G12),IF($K$2="Projekt",$B12, IF($K$2="Ansvarig",$D12,IF($K$2="Status",$E12,IF($K$2="Timmar",IFERROR($H12/($G12-$F12),1),"-")))),"") -> KalleOStina | U12: =IF(AND(U$9+($K$8/60)/24>=$F12,U$9<=$G12),IF($K$2="Projekt",$B12, IF($K$2="Ansvarig",$D12,IF($K$2="Status",$E12,IF($K$2="Timmar",IFERROR($H12/($G12-$F12),1),"-")))),"") -> KalleOStina | V12: =IF(AND(V$9+($K$8/60)/24>=$F12,V$9<=$G12),IF($K$2="Projekt",$B12, IF($K$2="Ansvarig",$D12,IF($K$2="Status",$E12,IF($K$2="Timmar",IFERROR($H12/($G12-$F12),1),"-")))),"") -> KalleOStina | ... JX12: =IF(AND(JX$9+($K$8/60)/24>=$F12,JX$9<=$G12),IF($K$2="Projekt",$B12, IF($K$2="Ansvarig",$D12,IF($K$2="Status",$E12,IF($K$2="Timmar",IFERROR($H12/($G12-$F12),1),"-")))),"")
B13: Budget och vem som betalar vad | D13: KalleOStina | E13: 6_Avslutad | F13: 46027 | G13: 46041 | H13: 3 | O13: =IF(AND(O$9+($K$8/60)/24>=$F13,O$9<=$G13),IF($K$2="Projekt",$B13, IF($K$2="Ansvarig",$D13,IF($K$2="Status",$E13,IF($K$2="Timmar",IFERROR($H13/($G13-$F13),1),"-")))),"") | P13: =IF(AND(P$9+($K$8/60)/24>=$F13,P$9<=$G13),IF($K$2="Projekt",$B13, IF($K$2="Ansvarig",$D13,IF($K$2="Status",$E13,IF($K$2="Timmar",IFERROR($H13/($G13-$F13),1),"-")))),"") | Q13: =IF(AND(Q$9+($K$8/60)/24>=$F13,Q$9<=$G13),IF($K$2="Projekt",$B13, IF($K$2="Ansvarig",$D13,IF($K$2="Status",$E13,IF($K$2="Timmar",IFERROR($H13/($G13-$F13),1),"-")))),"") | R13: =IF(AND(R$9+($K$8/60)/24>=$F13,R$9<=$G13),IF($K$2="Projekt",$B13, IF($K$2="Ansvarig",$D13,IF($K$2="Status",$E13,IF($K$2="Timmar",IFERROR($H13/($G13-$F13),1),"-")))),"") | S13: =IF(AND(S$9+($K$8/60)/24>=$F13,S$9<=$G13),IF($K$2="Projekt",$B13, IF($K$2="Ansvarig",$D13,IF($K$2="Status",$E13,IF($K$2="Timmar",IFERROR($H13/($G13-$F13),1),"-")))),"") -> KalleOStina | T13: =IF(AND(T$9+($K$8/60)/24>=$F13,T$9<=$G13),IF($K$2="Projekt",$B13, IF($K$2="Ansvarig",$D13,IF($K$2="Status",$E13,IF($K$2="Timmar",IFERROR($H13/($G13-$F13),1),"-")))),"") -> KalleOStina | U13: =IF(AND(U$9+($K$8/60)/24>=$F13,U$9<=$G13),IF($K$2="Projekt",$B13, IF($K$2="Ansvarig",$D13,IF($K$2="Status",$E13,IF($K$2="Timmar",IFERROR($H13/($G13-$F13),1),"-")))),"") -> KalleOStina | V13: =IF(AND(V$9+($K$8/60)/24>=$F13,V$9<=$G13),IF($K$2="Projekt",$B13, IF($K$2="Ansvarig",$D13,IF($K$2="Status",$E13,IF($K$2="Timmar",IFERROR($H13/($G13-$F13),1),"-")))),"") -> KalleOStina | ... JX13: =IF(AND(JX$9+($K$8/60)/24>=$F13,JX$9<=$G13),IF($K$2="Projekt",$B13, IF($K$2="Ansvarig",$D13,IF($K$2="Status",$E13,IF($K$2="Timmar",IFERROR($H13/($G13-$F13),1),"-")))),"")
B14: Typ av bröllop (stort, intimt, destination, kyrkligt, borgerligt osv.) | D14: KalleOStina | E14: 6_Avslutad | F14: 46027 | G14: 46041 | H14: 4 | O14: =IF(AND(O$9+($K$8/60)/24>=$F14,O$9<=$G14),IF($K$2="Projekt",$B14, IF($K$2="Ansvarig",$D14,IF($K$2="Status",$E14,IF($K$2="Timmar",IFERROR($H14/($G14-$F14),1),"-")))),"") | P14: =IF(AND(P$9+($K$8/60)/24>=$F14,P$9<=$G14),IF($K$2="Projekt",$B14, IF($K$2="Ansvarig",$D14,IF($K$2="Status",$E14,IF($K$2="Timmar",IFERROR($H14/($G14-$F14),1),"-")))),"") | Q14: =IF(AND(Q$9+($K$8/60)/24>=$F14,Q$9<=$G14),IF($K$2="Projekt",$B14, IF($K$2="Ansvarig",$D14,IF($K$2="Status",$E14,IF($K$2="Timmar",IFERROR($H14/($G14-$F14),1),"-")))),"") | R14: =IF(AND(R$9+($K$8/60)/24>=$F14,R$9<=$G14),IF($K$2="Projekt",$B14, IF($K$2="Ansvarig",$D14,IF($K$2="Status",$E14,IF($K$2="Timmar",IFERROR($H14/($G14-$F14),1),"-")))),"") | S14: =IF(AND(S$9+($K$8/60)/24>=$F14,S$9<=$G14),IF($K$2="Projekt",$B14, IF($K$2="Ansvarig",$D14,IF($K$2="Status",$E14,IF($K$2="Timmar",IFERROR($H14/($G14-$F14),1),"-")))),"") -> KalleOStina | T14: =IF(AND(T$9+($K$8/60)/24>=$F14,T$9<=$G14),IF($K$2="Projekt",$B14, IF($K$2="Ansvarig",$D14,IF($K$2="Status",$E14,IF($K$2="Timmar",IFERROR($H14/($G14-$F14),1),"-")))),"") -> KalleOStina | U14: =IF(AND(U$9+($K$8/60)/24>=$F14,U$9<=$G14),IF($K$2="Projekt",$B14, IF($K$2="Ansvarig",$D14,IF($K$2="Status",$E14,IF($K$2="Timmar",IFERROR($H14/($G14-$F14),1),"-")))),"") -> KalleOStina | V14: =IF(AND(V$9+($K$8/60)/24>=$F14,V$9<=$G14),IF($K$2="Projekt",$B14, IF($K$2="Ansvarig",$D14,IF($K$2="Status",$E14,IF($K$2="Timmar",IFERROR($H14/($G14-$F14),1),"-")))),"") -> KalleOStina | ... JX14: =IF(AND(JX$9+($K$8/60)/24>=$F14,JX$9<=$G14),IF($K$2="Projekt",$B14, IF($K$2="Ansvarig",$D14,IF($K$2="Status",$E14,IF($K$2="Timmar",IFERROR($H14/($G14-$F14),1),"-")))),"")
B15: Gästantal | D15: KalleOStina | E15: 6_Avslutad | F15: 46034 | G15: 46041 | H15: 2 | O15: =IF(AND(O$9+($K$8/60)/24>=$F15,O$9<=$G15),IF($K$2="Projekt",$B15, IF($K$2="Ansvarig",$D15,IF($K$2="Status",$E15,IF($K$2="Timmar",IFERROR($H15/($G15-$F15),1),"-")))),"") | P15: =IF(AND(P$9+($K$8/60)/24>=$F15,P$9<=$G15),IF($K$2="Projekt",$B15, IF($K$2="Ansvarig",$D15,IF($K$2="Status",$E15,IF($K$2="Timmar",IFERROR($H15/($G15-$F15),1),"-")))),"") | Q15: =IF(AND(Q$9+($K$8/60)/24>=$F15,Q$9<=$G15),IF($K$2="Projekt",$B15, IF($K$2="Ansvarig",$D15,IF($K$2="Status",$E15,IF($K$2="Timmar",IFERROR($H15/($G15-$F15),1),"-")))),"") | R15: =IF(AND(R$9+($K$8/60)/24>=$F15,R$9<=$G15),IF($K$2="Projekt",$B15, IF($K$2="Ansvarig",$D15,IF($K$2="Status",$E15,IF($K$2="Timmar",IFERROR($H15/($G15-$F15),1),"-")))),"") | S15: =IF(AND(S$9+($K$8/60)/24>=$F15,S$9<=$G15),IF($K$2="Projekt",$B15, IF($K$2="Ansvarig",$D15,IF($K$2="Status",$E15,IF($K$2="Timmar",IFERROR($H15/($G15-$F15),1),"-")))),"") | T15: =IF(AND(T$9+($K$8/60)/24>=$F15,T$9<=$G15),IF($K$2="Projekt",$B15, IF($K$2="Ansvarig",$D15,IF($K$2="Status",$E15,IF($K$2="Timmar",IFERROR($H15/($G15-$F15),1),"-")))),"") | U15: =IF(AND(U$9+($K$8/60)/24>=$F15,U$9<=$G15),IF($K$2="Projekt",$B15, IF($K$2="Ansvarig",$D15,IF($K$2="Status",$E15,IF($K$2="Timmar",IFERROR($H15/($G15-$F15),1),"-")))),"") | V15: =IF(AND(V$9+($K$8/60)/24>=$F15,V$9<=$G15),IF($K$2="Projekt",$B15, IF($K$2="Ansvarig",$D15,IF($K$2="Status",$E15,IF($K$2="Timmar",IFERROR($H15/($G15-$F15),1),"-")))),"") | ... JX15: =IF(AND(JX$9+($K$8/60)/24>=$F15,JX$9<=$G15),IF($K$2="Projekt",$B15, IF($K$2="Ansvarig",$D15,IF($K$2="Status",$E15,IF($K$2="Timmar",IFERROR($H15/($G15-$F15),1),"-")))),"")
H16: 3 | O16: =IF(AND(O$9+($K$8/60)/24>=$F16,O$9<=$G16),IF($K$2="Projekt",$B16, IF($K$2="Ansvarig",$D16,IF($K$2="Status",$E16,IF($K$2="Timmar",IFERROR($H16/($G16-$F16),1),"-")))),"") | P16: =IF(AND(P$9+($K$8/60)/24>=$F16,P$9<=$G16),IF($K$2="Projekt",$B16, IF($K$2="Ansvarig",$D16,IF($K$2="Status",$E16,IF($K$2="Timmar",IFERROR($H16/($G16-$F16),1),"-")))),"") | Q16: =IF(AND(Q$9+($K$8/60)/24>=$F16,Q$9<=$G16),IF($K$2="Projekt",$B16, IF($K$2="Ansvarig",$D16,IF($K$2="Status",$E16,IF($K$2="Timmar",IFERROR($H16/($G16-$F16),1),"-")))),"") | R16: =IF(AND(R$9+($K$8/60)/24>=$F16,R$9<=$G16),IF($K$2="Projekt",$B16, IF($K$2="Ansvarig",$D16,IF($K$2="Status",$E16,IF($K$2="Timmar",IFERROR($H16/($G16-$F16),1),"-")))),"") | S16: =IF(AND(S$9+($K$8/60)/24>=$F16,S$9<=$G16),IF($K$2="Projekt",$B16, IF($K$2="Ansvarig",$D16,IF($K$2="Status",$E16,IF($K$2="Timmar",IFERROR($H16/($G16-$F16),1),"-")))),"") | T16: =IF(AND(T$9+($K$8/60)/24>=$F16,T$9<=$G16),IF($K$2="Projekt",$B16, IF($K$2="Ansvarig",$D16,IF($K$2="Status",$E16,IF($K$2="Timmar",IFERROR($H16/($G16-$F16),1),"-")))),"") | U16: =IF(AND(U$9+($K$8/60)/24>=$F16,U$9<=$G16),IF($K$2="Projekt",$B16, IF($K$2="Ansvarig",$D16,IF($K$2="Status",$E16,IF($K$2="Timmar",IFERROR($H16/($G16-$F16),1),"-")))),"") | V16: =IF(AND(V$9+($K$8/60)/24>=$F16,V$9<=$G16),IF($K$2="Projekt",$B16, IF($K$2="Ansvarig",$D16,IF($K$2="Status",$E16,IF($K$2="Timmar",IFERROR($H16/($G16-$F16),1),"-")))),"") | ... JX16: =IF(AND(JX$9+($K$8/60)/24>=$F16,JX$9<=$G16),IF($K$2="Projekt",$B16, IF($K$2="Ansvarig",$D16,IF($K$2="Status",$E16,IF($K$2="Timmar",IFERROR($H16/($G16-$F16),1),"-")))),"")
B17: Gästlista | D17: Total | H17: 4 | O17: =IF(AND(O$9+($K$8/60)/24>=$F17,O$9<=$G17),IF($K$2="Projekt",$B17, IF($K$2="Ansvarig",$D17,IF($K$2="Status",$E17,IF($K$2="Timmar",IFERROR($H17/($G17-$F17),1),"-")))),"") | P17: =IF(AND(P$9+($K$8/60)/24>=$F17,P$9<=$G17),IF($K$2="Projekt",$B17, IF($K$2="Ansvarig",$D17,IF($K$2="Status",$E17,IF($K$2="Timmar",IFERROR($H17/($G17-$F17),1),"-")))),"") | Q17: =IF(AND(Q$9+($K$8/60)/24>=$F17,Q$9<=$G17),IF($K$2="Projekt",$B17, IF($K$2="Ansvarig",$D17,IF($K$2="Status",$E17,IF($K$2="Timmar",IFERROR($H17/($G17-$F17),1),"-")))),"") | R17: =IF(AND(R$9+($K$8/60)/24>=$F17,R$9<=$G17),IF($K$2="Projekt",$B17, IF($K$2="Ansvarig",$D17,IF($K$2="Status",$E17,IF($K$2="Timmar",IFERROR($H17/($G17-$F17),1),"-")))),"") | S17: =IF(AND(S$9+($K$8/60)/24>=$F17,S$9<=$G17),IF($K$2="Projekt",$B17, IF($K$2="Ansvarig",$D17,IF($K$2="Status",$E17,IF($K$2="Timmar",IFERROR($H17/($G17-$F17),1),"-")))),"") | T17: =IF(AND(T$9+($K$8/60)/24>=$F17,T$9<=$G17),IF($K$2="Projekt",$B17, IF($K$2="Ansvarig",$D17,IF($K$2="Status",$E17,IF($K$2="Timmar",IFERROR($H17/($G17-$F17),1),"-")))),"") | U17: =IF(AND(U$9+($K$8/60)/24>=$F17,U$9<=$G17),IF($K$2="Projekt",$B17, IF($K$2="Ansvarig",$D17,IF($K$2="Status",$E17,IF($K$2="Timmar",IFERROR($H17/($G17-$F17),1),"-")))),"") | V17: =IF(AND(V$9+($K$8/60)/24>=$F17,V$9<=$G17),IF($K$2="Projekt",$B17, IF($K$2="Ansvarig",$D17,IF($K$2="Status",$E17,IF($K$2="Timmar",IFERROR($H17/($G17-$F17),1),"-")))),"") | ... JX17: =IF(AND(JX$9+($K$8/60)/24>=$F17,JX$9<=$G17),IF($K$2="Projekt",$B17, IF($K$2="Ansvarig",$D17,IF($K$2="Status",$E17,IF($K$2="Timmar",IFERROR($H17/($G17-$F17),1),"-")))),"")
B18: Gästlista | D18: KalleOStina | E18: 6_Avslutad | F18: 46048 | G18: 46055 | H18: 2 | O18: =IF(AND(O$9+($K$8/60)/24>=$F18,O$9<=$G18),IF($K$2="Projekt",$B18, IF($K$2="Ansvarig",$D18,IF($K$2="Status",$E18,IF($K$2="Timmar",IFERROR($H18/($G18-$F18),1),"-")))),"") | P18: =IF(AND(P$9+($K$8/60)/24>=$F18,P$9<=$G18),IF($K$2="Projekt",$B18, IF($K$2="Ansvarig",$D18,IF($K$2="Status",$E18,IF($K$2="Timmar",IFERROR($H18/($G18-$F18),1),"-")))),"") | Q18: =IF(AND(Q$9+($K$8/60)/24>=$F18,Q$9<=$G18),IF($K$2="Projekt",$B18, IF($K$2="Ansvarig",$D18,IF($K$2="Status",$E18,IF($K$2="Timmar",IFERROR($H18/($G18-$F18),1),"-")))),"") | R18: =IF(AND(R$9+($K$8/60)/24>=$F18,R$9<=$G18),IF($K$2="Projekt",$B18, IF($K$2="Ansvarig",$D18,IF($K$2="Status",$E18,IF($K$2="Timmar",IFERROR($H18/($G18-$F18),1),"-")))),"") | S18: =IF(AND(S$9+($K$8/60)/24>=$F18,S$9<=$G18),IF($K$2="Projekt",$B18, IF($K$2="Ansvarig",$D18,IF($K$2="Status",$E18,IF($K$2="Timmar",IFERROR($H18/($G18-$F18),1),"-")))),"") | T18: =IF(AND(T$9+($K$8/60)/24>=$F18,T$9<=$G18),IF($K$2="Projekt",$B18, IF($K$2="Ansvarig",$D18,IF($K$2="Status",$E18,IF($K$2="Timmar",IFERROR($H18/($G18-$F18),1),"-")))),"") | U18: =IF(AND(U$9+($K$8/60)/24>=$F18,U$9<=$G18),IF($K$2="Projekt",$B18, IF($K$2="Ansvarig",$D18,IF($K$2="Status",$E18,IF($K$2="Timmar",IFERROR($H18/($G18-$F18),1),"-")))),"") | V18: =IF(AND(V$9+($K$8/60)/24>=$F18,V$9<=$G18),IF($K$2="Projekt",$B18, IF($K$2="Ansvarig",$D18,IF($K$2="Status",$E18,IF($K$2="Timmar",IFERROR($H18/($G18-$F18),1),"-")))),"") | ... JX18: =IF(AND(JX$9+($K$8/60)/24>=$F18,JX$9<=$G18),IF($K$2="Projekt",$B18, IF($K$2="Ansvarig",$D18,IF($K$2="Status",$E18,IF($K$2="Timmar",IFERROR($H18/($G18-$F18),1),"-")))),"")
B19: Save-the-date | D19: Kalle | E19: 6_Avslutad | F19: 46062 | G19: 46062 | H19: 3 | O19: =IF(AND(O$9+($K$8/60)/24>=$F19,O$9<=$G19),IF($K$2="Projekt",$B19, IF($K$2="Ansvarig",$D19,IF($K$2="Status",$E19,IF($K$2="Timmar",IFERROR($H19/($G19-$F19),1),"-")))),"") | P19: =IF(AND(P$9+($K$8/60)/24>=$F19,P$9<=$G19),IF($K$2="Projekt",$B19, IF($K$2="Ansvarig",$D19,IF($K$2="Status",$E19,IF($K$2="Timmar",IFERROR($H19/($G19-$F19),1),"-")))),"") | Q19: =IF(AND(Q$9+($K$8/60)/24>=$F19,Q$9<=$G19),IF($K$2="Projekt",$B19, IF($K$2="Ansvarig",$D19,IF($K$2="Status",$E19,IF($K$2="Timmar",IFERROR($H19/($G19-$F19),1),"-")))),"") | R19: =IF(AND(R$9+($K$8/60)/24>=$F19,R$9<=$G19),IF($K$2="Projekt",$B19, IF($K$2="Ansvarig",$D19,IF($K$2="Status",$E19,IF($K$2="Timmar",IFERROR($H19/($G19-$F19),1),"-")))),"") | S19: =IF(AND(S$9+($K$8/60)/24>=$F19,S$9<=$G19),IF($K$2="Projekt",$B19, IF($K$2="Ansvarig",$D19,IF($K$2="Status",$E19,IF($K$2="Timmar",IFERROR($H19/($G19-$F19),1),"-")))),"") | T19: =IF(AND(T$9+($K$8/60)/24>=$F19,T$9<=$G19),IF($K$2="Projekt",$B19, IF($K$2="Ansvarig",$D19,IF($K$2="Status",$E19,IF($K$2="Timmar",IFERROR($H19/($G19-$F19),1),"-")))),"") | U19: =IF(AND(U$9+($K$8/60)/24>=$F19,U$9<=$G19),IF($K$2="Projekt",$B19, IF($K$2="Ansvarig",$D19,IF($K$2="Status",$E19,IF($K$2="Timmar",IFERROR($H19/($G19-$F19),1),"-")))),"") | V19: =IF(AND(V$9+($K$8/60)/24>=$F19,V$9<=$G19),IF($K$2="Projekt",$B19, IF($K$2="Ansvarig",$D19,IF($K$2="Status",$E19,IF($K$2="Timmar",IFERROR($H19/($G19-$F19),1),"-")))),"") | ... JX19: =IF(AND(JX$9+($K$8/60)/24>=$F19,JX$9<=$G19),IF($K$2="Projekt",$B19, IF($K$2="Ansvarig",$D19,IF($K$2="Status",$E19,IF($K$2="Timmar",IFERROR($H19/($G19-$F19),1),"-")))),"")
B20: Inbjudningar | D20: Kalle | E20: 2_Påbörjad | F20: 46083 | G20: 46083 | H20: 4 | O20: =IF(AND(O$9+($K$8/60)/24>=$F20,O$9<=$G20),IF($K$2="Projekt",$B20, IF($K$2="Ansvarig",$D20,IF($K$2="Status",$E20,IF($K$2="Timmar",IFERROR($H20/($G20-$F20),1),"-")))),"") | P20: =IF(AND(P$9+($K$8/60)/24>=$F20,P$9<=$G20),IF($K$2="Projekt",$B20, IF($K$2="Ansvarig",$D20,IF($K$2="Status",$E20,IF($K$2="Timmar",IFERROR($H20/($G20-$F20),1),"-")))),"") | Q20: =IF(AND(Q$9+($K$8/60)/24>=$F20,Q$9<=$G20),IF($K$2="Projekt",$B20, IF($K$2="Ansvarig",$D20,IF($K$2="Status",$E20,IF($K$2="Timmar",IFERROR($H20/($G20-$F20),1),"-")))),"") | R20: =IF(AND(R$9+($K$8/60)/24>=$F20,R$9<=$G20),IF($K$2="Projekt",$B20, IF($K$2="Ansvarig",$D20,IF($K$2="Status",$E20,IF($K$2="Timmar",IFERROR($H20/($G20-$F20),1),"-")))),"") | S20: =IF(AND(S$9+($K$8/60)/24>=$F20,S$9<=$G20),IF($K$2="Projekt",$B20, IF($K$2="Ansvarig",$D20,IF($K$2="Status",$E20,IF($K$2="Timmar",IFERROR($H20/($G20-$F20),1),"-")))),"") | T20: =IF(AND(T$9+($K$8/60)/24>=$F20,T$9<=$G20),IF($K$2="Projekt",$B20, IF($K$2="Ansvarig",$D20,IF($K$2="Status",$E20,IF($K$2="Timmar",IFERROR($H20/($G20-$F20),1),"-")))),"") | U20: =IF(AND(U$9+($K$8/60)/24>=$F20,U$9<=$G20),IF($K$2="Projekt",$B20, IF($K$2="Ansvarig",$D20,IF($K$2="Status",$E20,IF($K$2="Timmar",IFERROR($H20/($G20-$F20),1),"-")))),"") | V20: =IF(AND(V$9+($K$8/60)/24>=$F20,V$9<=$G20),IF($K$2="Projekt",$B20, IF($K$2="Ansvarig",$D20,IF($K$2="Status",$E20,IF($K$2="Timmar",IFERROR($H20/($G20-$F20),1),"-")))),"") | ... JX20: =IF(AND(JX$9+($K$8/60)/24>=$F20,JX$9<=$G20),IF($K$2="Projekt",$B20, IF($K$2="Ansvarig",$D20,IF($K$2="Status",$E20,IF($K$2="Timmar",IFERROR($H20/($G20-$F20),1),"-")))),"")
B21: OSA-hantering | D21: Kalle | E21: 2_Påbörjad | F21: 46090 | G21: 46118 | H21: 2 | O21: =IF(AND(O$9+($K$8/60)/24>=$F21,O$9<=$G21),IF($K$2="Projekt",$B21, IF($K$2="Ansvarig",$D21,IF($K$2="Status",$E21,IF($K$2="Timmar",IFERROR($H21/($G21-$F21),1),"-")))),"") | P21: =IF(AND(P$9+($K$8/60)/24>=$F21,P$9<=$G21),IF($K$2="Projekt",$B21, IF($K$2="Ansvarig",$D21,IF($K$2="Status",$E21,IF($K$2="Timmar",IFERROR($H21/($G21-$F21),1),"-")))),"") | Q21: =IF(AND(Q$9+($K$8/60)/24>=$F21,Q$9<=$G21),IF($K$2="Projekt",$B21, IF($K$2="Ansvarig",$D21,IF($K$2="Status",$E21,IF($K$2="Timmar",IFERROR($H21/($G21-$F21),1),"-")))),"") | R21: =IF(AND(R$9+($K$8/60)/24>=$F21,R$9<=$G21),IF($K$2="Projekt",$B21, IF($K$2="Ansvarig",$D21,IF($K$2="Status",$E21,IF($K$2="Timmar",IFERROR($H21/($G21-$F21),1),"-")))),"") | S21: =IF(AND(S$9+($K$8/60)/24>=$F21,S$9<=$G21),IF($K$2="Projekt",$B21, IF($K$2="Ansvarig",$D21,IF($K$2="Status",$E21,IF($K$2="Timmar",IFERROR($H21/($G21-$F21),1),"-")))),"") | T21: =IF(AND(T$9+($K$8/60)/24>=$F21,T$9<=$G21),IF($K$2="Projekt",$B21, IF($K$2="Ansvarig",$D21,IF($K$2="Status",$E21,IF($K$2="Timmar",IFERROR($H21/($G21-$F21),1),"-")))),"") | U21: =IF(AND(U$9+($K$8/60)/24>=$F21,U$9<=$G21),IF($K$2="Projekt",$B21, IF($K$2="Ansvarig",$D21,IF($K$2="Status",$E21,IF($K$2="Timmar",IFERROR($H21/($G21-$F21),1),"-")))),"") | V21: =IF(AND(V$9+($K$8/60)/24>=$F21,V$9<=$G21),IF($K$2="Projekt",$B21, IF($K$2="Ansvarig",$D21,IF($K$2="Status",$E21,IF($K$2="Timmar",IFERROR($H21/($G21-$F21),1),"-")))),"") | ... JX21: =IF(AND(JX$9+($K$8/60)/24>=$F21,JX$9<=$G21),IF($K$2="Projekt",$B21, IF($K$2="Ansvarig",$D21,IF($K$2="Status",$E21,IF($K$2="Timmar",IFERROR($H21/($G21-$F21),1),"-")))),"")
B22: Inbjudning 2 | D22: Kalle | E22: 2_Påbörjad | F22: 46125 | G22: 46125 | H22: 3 | O22: =IF(AND(O$9+($K$8/60)/24>=$F22,O$9<=$G22),IF($K$2="Projekt",$B22, IF($K$2="Ansvarig",$D22,IF($K$2="Status",$E22,IF($K$2="Timmar",IFERROR($H22/($G22-$F22),1),"-")))),"") | P22: =IF(AND(P$9+($K$8/60)/24>=$F22,P$9<=$G22),IF($K$2="Projekt",$B22, IF($K$2="Ansvarig",$D22,IF($K$2="Status",$E22,IF($K$2="Timmar",IFERROR($H22/($G22-$F22),1),"-")))),"") | Q22: =IF(AND(Q$9+($K$8/60)/24>=$F22,Q$9<=$G22),IF($K$2="Projekt",$B22, IF($K$2="Ansvarig",$D22,IF($K$2="Status",$E22,IF($K$2="Timmar",IFERROR($H22/($G22-$F22),1),"-")))),"") | R22: =IF(AND(R$9+($K$8/60)/24>=$F22,R$9<=$G22),IF($K$2="Projekt",$B22, IF($K$2="Ansvarig",$D22,IF($K$2="Status",$E22,IF($K$2="Timmar",IFERROR($H22/($G22-$F22),1),"-")))),"") | S22: =IF(AND(S$9+($K$8/60)/24>=$F22,S$9<=$G22),IF($K$2="Projekt",$B22, IF($K$2="Ansvarig",$D22,IF($K$2="Status",$E22,IF($K$2="Timmar",IFERROR($H22/($G22-$F22),1),"-")))),"") | T22: =IF(AND(T$9+($K$8/60)/24>=$F22,T$9<=$G22),IF($K$2="Projekt",$B22, IF($K$2="Ansvarig",$D22,IF($K$2="Status",$E22,IF($K$2="Timmar",IFERROR($H22/($G22-$F22),1),"-")))),"") | U22: =IF(AND(U$9+($K$8/60)/24>=$F22,U$9<=$G22),IF($K$2="Projekt",$B22, IF($K$2="Ansvarig",$D22,IF($K$2="Status",$E22,IF($K$2="Timmar",IFERROR($H22/($G22-$F22),1),"-")))),"") | V22: =IF(AND(V$9+($K$8/60)/24>=$F22,V$9<=$G22),IF($K$2="Projekt",$B22, IF($K$2="Ansvarig",$D22,IF($K$2="Status",$E22,IF($K$2="Timmar",IFERROR($H22/($G22-$F22),1),"-")))),"") | ... JX22: =IF(AND(JX$9+($K$8/60)/24>=$F22,JX$9<=$G22),IF($K$2="Projekt",$B22, IF($K$2="Ansvarig",$D22,IF($K$2="Status",$E22,IF($K$2="Timmar",IFERROR($H22/($G22-$F22),1),"-")))),"")
B23: OSA-hantering 2 | D23: Kalle | E23: 2_Påbörjad | F23: 46125 | G23: 46153 | H23: 4 | O23: =IF(AND(O$9+($K$8/60)/24>=$F23,O$9<=$G23),IF($K$2="Projekt",$B23, IF($K$2="Ansvarig",$D23,IF($K$2="Status",$E23,IF($K$2="Timmar",IFERROR($H23/($G23-$F23),1),"-")))),"") | P23: =IF(AND(P$9+($K$8/60)/24>=$F23,P$9<=$G23),IF($K$2="Projekt",$B23, IF($K$2="Ansvarig",$D23,IF($K$2="Status",$E23,IF($K$2="Timmar",IFERROR($H23/($G23-$F23),1),"-")))),"") | Q23: =IF(AND(Q$9+($K$8/60)/24>=$F23,Q$9<=$G23),IF($K$2="Projekt",$B23, IF($K$2="Ansvarig",$D23,IF($K$2="Status",$E23,IF($K$2="Timmar",IFERROR($H23/($G23-$F23),1),"-")))),"") | R23: =IF(AND(R$9+($K$8/60)/24>=$F23,R$9<=$G23),IF($K$2="Projekt",$B23, IF($K$2="Ansvarig",$D23,IF($K$2="Status",$E23,IF($K$2="Timmar",IFERROR($H23/($G23-$F23),1),"-")))),"") | S23: =IF(AND(S$9+($K$8/60)/24>=$F23,S$9<=$G23),IF($K$2="Projekt",$B23, IF($K$2="Ansvarig",$D23,IF($K$2="Status",$E23,IF($K$2="Timmar",IFERROR($H23/($G23-$F23),1),"-")))),"") | T23: =IF(AND(T$9+($K$8/60)/24>=$F23,T$9<=$G23),IF($K$2="Projekt",$B23, IF($K$2="Ansvarig",$D23,IF($K$2="Status",$E23,IF($K$2="Timmar",IFERROR($H23/($G23-$F23),1),"-")))),"") | U23: =IF(AND(U$9+($K$8/60)/24>=$F23,U$9<=$G23),IF($K$2="Projekt",$B23, IF($K$2="Ansvarig",$D23,IF($K$2="Status",$E23,IF($K$2="Timmar",IFERROR($H23/($G23-$F23),1),"-")))),"") | V23: =IF(AND(V$9+($K$8/60)/24>=$F23,V$9<=$G23),IF($K$2="Projekt",$B23, IF($K$2="Ansvarig",$D23,IF($K$2="Status",$E23,IF($K$2="Timmar",IFERROR($H23/($G23-$F23),1),"-")))),"") | ... JX23: =IF(AND(JX$9+($K$8/60)/24>=$F23,JX$9<=$G23),IF($K$2="Projekt",$B23, IF($K$2="Ansvarig",$D23,IF($K$2="Status",$E23,IF($K$2="Timmar",IFERROR($H23/($G23-$F23),1),"-")))),"")
B24: Inbjudning 3 | D24: Kalle | E24: 1_Tilldelad | F24: 46160 | G24: 46160 | H24: 3 | O24: =IF(AND(O$9+($K$8/60)/24>=$F24,O$9<=$G24),IF($K$2="Projekt",$B24, IF($K$2="Ansvarig",$D24,IF($K$2="Status",$E24,IF($K$2="Timmar",IFERROR($H24/($G24-$F24),1),"-")))),"") | P24: =IF(AND(P$9+($K$8/60)/24>=$F24,P$9<=$G24),IF($K$2="Projekt",$B24, IF($K$2="Ansvarig",$D24,IF($K$2="Status",$E24,IF($K$2="Timmar",IFERROR($H24/($G24-$F24),1),"-")))),"") | Q24: =IF(AND(Q$9+($K$8/60)/24>=$F24,Q$9<=$G24),IF($K$2="Projekt",$B24, IF($K$2="Ansvarig",$D24,IF($K$2="Status",$E24,IF($K$2="Timmar",IFERROR($H24/($G24-$F24),1),"-")))),"") | R24: =IF(AND(R$9+($K$8/60)/24>=$F24,R$9<=$G24),IF($K$2="Projekt",$B24, IF($K$2="Ansvarig",$D24,IF($K$2="Status",$E24,IF($K$2="Timmar",IFERROR($H24/($G24-$F24),1),"-")))),"") | S24: =IF(AND(S$9+($K$8/60)/24>=$F24,S$9<=$G24),IF($K$2="Projekt",$B24, IF($K$2="Ansvarig",$D24,IF($K$2="Status",$E24,IF($K$2="Timmar",IFERROR($H24/($G24-$F24),1),"-")))),"") | T24: =IF(AND(T$9+($K$8/60)/24>=$F24,T$9<=$G24),IF($K$2="Projekt",$B24, IF($K$2="Ansvarig",$D24,IF($K$2="Status",$E24,IF($K$2="Timmar",IFERROR($H24/($G24-$F24),1),"-")))),"") | U24: =IF(AND(U$9+($K$8/60)/24>=$F24,U$9<=$G24),IF($K$2="Projekt",$B24, IF($K$2="Ansvarig",$D24,IF($K$2="Status",$E24,IF($K$2="Timmar",IFERROR($H24/($G24-$F24),1),"-")))),"") | V24: =IF(AND(V$9+($K$8/60)/24>=$F24,V$9<=$G24),IF($K$2="Projekt",$B24, IF($K$2="Ansvarig",$D24,IF($K$2="Status",$E24,IF($K$2="Timmar",IFERROR($H24/($G24-$F24),1),"-")))),"") | ... JX24: =IF(AND(JX$9+($K$8/60)/24>=$F24,JX$9<=$G24),IF($K$2="Projekt",$B24, IF($K$2="Ansvarig",$D24,IF($K$2="Status",$E24,IF($K$2="Timmar",IFERROR($H24/($G24-$F24),1),"-")))),"")
B25: Specialkost/allergier | D25: Stina | E25: 1_Tilldelad | F25: 46083 | G25: 46111 | H25: 3 | O25: =IF(AND(O$9+($K$8/60)/24>=$F25,O$9<=$G25),IF($K$2="Projekt",$B25, IF($K$2="Ansvarig",$D25,IF($K$2="Status",$E25,IF($K$2="Timmar",IFERROR($H25/($G25-$F25),1),"-")))),"") | P25: =IF(AND(P$9+($K$8/60)/24>=$F25,P$9<=$G25),IF($K$2="Projekt",$B25, IF($K$2="Ansvarig",$D25,IF($K$2="Status",$E25,IF($K$2="Timmar",IFERROR($H25/($G25-$F25),1),"-")))),"") | Q25: =IF(AND(Q$9+($K$8/60)/24>=$F25,Q$9<=$G25),IF($K$2="Projekt",$B25, IF($K$2="Ansvarig",$D25,IF($K$2="Status",$E25,IF($K$2="Timmar",IFERROR($H25/($G25-$F25),1),"-")))),"") | R25: =IF(AND(R$9+($K$8/60)/24>=$F25,R$9<=$G25),IF($K$2="Projekt",$B25, IF($K$2="Ansvarig",$D25,IF($K$2="Status",$E25,IF($K$2="Timmar",IFERROR($H25/($G25-$F25),1),"-")))),"") | S25: =IF(AND(S$9+($K$8/60)/24>=$F25,S$9<=$G25),IF($K$2="Projekt",$B25, IF($K$2="Ansvarig",$D25,IF($K$2="Status",$E25,IF($K$2="Timmar",IFERROR($H25/($G25-$F25),1),"-")))),"") | T25: =IF(AND(T$9+($K$8/60)/24>=$F25,T$9<=$G25),IF($K$2="Projekt",$B25, IF($K$2="Ansvarig",$D25,IF($K$2="Status",$E25,IF($K$2="Timmar",IFERROR($H25/($G25-$F25),1),"-")))),"") | U25: =IF(AND(U$9+($K$8/60)/24>=$F25,U$9<=$G25),IF($K$2="Projekt",$B25, IF($K$2="Ansvarig",$D25,IF($K$2="Status",$E25,IF($K$2="Timmar",IFERROR($H25/($G25-$F25),1),"-")))),"") | V25: =IF(AND(V$9+($K$8/60)/24>=$F25,V$9<=$G25),IF($K$2="Projekt",$B25, IF($K$2="Ansvarig",$D25,IF($K$2="Status",$E25,IF($K$2="Timmar",IFERROR($H25/($G25-$F25),1),"-")))),"") | ... JX25: =IF(AND(JX$9+($K$8/60)/24>=$F25,JX$9<=$G25),IF($K$2="Projekt",$B25, IF($K$2="Ansvarig",$D25,IF($K$2="Status",$E25,IF($K$2="Timmar",IFERROR($H25/($G25-$F25),1),"-")))),"")
B26: Barn eller barnfritt | D26: Stina | E26: 0_Problem | F26: 46083 | G26: 46111 | H26: 4 | O26: =IF(AND(O$9+($K$8/60)/24>=$F26,O$9<=$G26),IF($K$2="Projekt",$B26, IF($K$2="Ansvarig",$D26,IF($K$2="Status",$E26,IF($K$2="Timmar",IFERROR($H26/($G26-$F26),1),"-")))),"") | P26: =IF(AND(P$9+($K$8/60)/24>=$F26,P$9<=$G26),IF($K$2="Projekt",$B26, IF($K$2="Ansvarig",$D26,IF($K$2="Status",$E26,IF($K$2="Timmar",IFERROR($H26/($G26-$F26),1),"-")))),"") | Q26: =IF(AND(Q$9+($K$8/60)/24>=$F26,Q$9<=$G26),IF($K$2="Projekt",$B26, IF($K$2="Ansvarig",$D26,IF($K$2="Status",$E26,IF($K$2="Timmar",IFERROR($H26/($G26-$F26),1),"-")))),"") | R26: =IF(AND(R$9+($K$8/60)/24>=$F26,R$9<=$G26),IF($K$2="Projekt",$B26, IF($K$2="Ansvarig",$D26,IF($K$2="Status",$E26,IF($K$2="Timmar",IFERROR($H26/($G26-$F26),1),"-")))),"") | S26: =IF(AND(S$9+($K$8/60)/24>=$F26,S$9<=$G26),IF($K$2="Projekt",$B26, IF($K$2="Ansvarig",$D26,IF($K$2="Status",$E26,IF($K$2="Timmar",IFERROR($H26/($G26-$F26),1),"-")))),"") | T26: =IF(AND(T$9+($K$8/60)/24>=$F26,T$9<=$G26),IF($K$2="Projekt",$B26, IF($K$2="Ansvarig",$D26,IF($K$2="Status",$E26,IF($K$2="Timmar",IFERROR($H26/($G26-$F26),1),"-")))),"") | U26: =IF(AND(U$9+($K$8/60)/24>=$F26,U$9<=$G26),IF($K$2="Projekt",$B26, IF($K$2="Ansvarig",$D26,IF($K$2="Status",$E26,IF($K$2="Timmar",IFERROR($H26/($G26-$F26),1),"-")))),"") | V26: =IF(AND(V$9+($K$8/60)/24>=$F26,V$9<=$G26),IF($K$2="Projekt",$B26, IF($K$2="Ansvarig",$D26,IF($K$2="Status",$E26,IF($K$2="Timmar",IFERROR($H26/($G26-$F26),1),"-")))),"") | ... JX26: =IF(AND(JX$9+($K$8/60)/24>=$F26,JX$9<=$G26),IF($K$2="Projekt",$B26, IF($K$2="Ansvarig",$D26,IF($K$2="Status",$E26,IF($K$2="Timmar",IFERROR($H26/($G26-$F26),1),"-")))),"")
B27: Toastmaster/toastmadame | D27: Stina | E27: 1_Tilldelad | F27: 46083 | G27: 46111 | O27: =IF(AND(O$9+($K$8/60)/24>=$F27,O$9<=$G27),IF($K$2="Projekt",$B27, IF($K$2="Ansvarig",$D27,IF($K$2="Status",$E27,IF($K$2="Timmar",IFERROR($H27/($G27-$F27),1),"-")))),"") | P27: =IF(AND(P$9+($K$8/60)/24>=$F27,P$9<=$G27),IF($K$2="Projekt",$B27, IF($K$2="Ansvarig",$D27,IF($K$2="Status",$E27,IF($K$2="Timmar",IFERROR($H27/($G27-$F27),1),"-")))),"") | Q27: =IF(AND(Q$9+($K$8/60)/24>=$F27,Q$9<=$G27),IF($K$2="Projekt",$B27, IF($K$2="Ansvarig",$D27,IF($K$2="Status",$E27,IF($K$2="Timmar",IFERROR($H27/($G27-$F27),1),"-")))),"") | R27: =IF(AND(R$9+($K$8/60)/24>=$F27,R$9<=$G27),IF($K$2="Projekt",$B27, IF($K$2="Ansvarig",$D27,IF($K$2="Status",$E27,IF($K$2="Timmar",IFERROR($H27/($G27-$F27),1),"-")))),"") | S27: =IF(AND(S$9+($K$8/60)/24>=$F27,S$9<=$G27),IF($K$2="Projekt",$B27, IF($K$2="Ansvarig",$D27,IF($K$2="Status",$E27,IF($K$2="Timmar",IFERROR($H27/($G27-$F27),1),"-")))),"") | T27: =IF(AND(T$9+($K$8/60)/24>=$F27,T$9<=$G27),IF($K$2="Projekt",$B27, IF($K$2="Ansvarig",$D27,IF($K$2="Status",$E27,IF($K$2="Timmar",IFERROR($H27/($G27-$F27),1),"-")))),"") | U27: =IF(AND(U$9+($K$8/60)/24>=$F27,U$9<=$G27),IF($K$2="Projekt",$B27, IF($K$2="Ansvarig",$D27,IF($K$2="Status",$E27,IF($K$2="Timmar",IFERROR($H27/($G27-$F27),1),"-")))),"") | V27: =IF(AND(V$9+($K$8/60)/24>=$F27,V$9<=$G27),IF($K$2="Projekt",$B27, IF($K$2="Ansvarig",$D27,IF($K$2="Status",$E27,IF($K$2="Timmar",IFERROR($H27/($G27-$F27),1),"-")))),"") | ... JX27: =IF(AND(JX$9+($K$8/60)/24>=$F27,JX$9<=$G27),IF($K$2="Projekt",$B27, IF($K$2="Ansvarig",$D27,IF($K$2="Status",$E27,IF($K$2="Timmar",IFERROR($H27/($G27-$F27),1),"-")))),"")
O28: =IF(AND(O$9+($K$8/60)/24>=$F28,O$9<=$G28),IF($K$2="Projekt",$B28, IF($K$2="Ansvarig",$D28,IF($K$2="Status",$E28,IF($K$2="Timmar",IFERROR($H28/($G28-$F28),1),"-")))),"") | P28: =IF(AND(P$9+($K$8/60)/24>=$F28,P$9<=$G28),IF($K$2="Projekt",$B28, IF($K$2="Ansvarig",$D28,IF($K$2="Status",$E28,IF($K$2="Timmar",IFERROR($H28/($G28-$F28),1),"-")))),"") | Q28: =IF(AND(Q$9+($K$8/60)/24>=$F28,Q$9<=$G28),IF($K$2="Projekt",$B28, IF($K$2="Ansvarig",$D28,IF($K$2="Status",$E28,IF($K$2="Timmar",IFERROR($H28/($G28-$F28),1),"-")))),"") | R28: =IF(AND(R$9+($K$8/60)/24>=$F28,R$9<=$G28),IF($K$2="Projekt",$B28, IF($K$2="Ansvarig",$D28,IF($K$2="Status",$E28,IF($K$2="Timmar",IFERROR($H28/($G28-$F28),1),"-")))),"") | S28: =IF(AND(S$9+($K$8/60)/24>=$F28,S$9<=$G28),IF($K$2="Projekt",$B28, IF($K$2="Ansvarig",$D28,IF($K$2="Status",$E28,IF($K$2="Timmar",IFERROR($H28/($G28-$F28),1),"-")))),"") | T28: =IF(AND(T$9+($K$8/60)/24>=$F28,T$9<=$G28),IF($K$2="Projekt",$B28, IF($K$2="Ansvarig",$D28,IF($K$2="Status",$E28,IF($K$2="Timmar",IFERROR($H28/($G28-$F28),1),"-")))),"") | U28: =IF(AND(U$9+($K$8/60)/24>=$F28,U$9<=$G28),IF($K$2="Projekt",$B28, IF($K$2="Ansvarig",$D28,IF($K$2="Status",$E28,IF($K$2="Timmar",IFERROR($H28/($G28-$F28),1),"-")))),"") | V28: =IF(AND(V$9+($K$8/60)/24>=$F28,V$9<=$G28),IF($K$2="Projekt",$B28, IF($K$2="Ansvarig",$D28,IF($K$2="Status",$E28,IF($K$2="Timmar",IFERROR($H28/($G28-$F28),1),"-")))),"") | ... JX28: =IF(AND(JX$9+($K$8/60)/24>=$F28,JX$9<=$G28),IF($K$2="Projekt",$B28, IF($K$2="Ansvarig",$D28,IF($K$2="Status",$E28,IF($K$2="Timmar",IFERROR($H28/($G28-$F28),1),"-")))),"")
H29: 1 | O29: =IF(AND(O$9+($K$8/60)/24>=$F29,O$9<=$G29),IF($K$2="Projekt",$B29, IF($K$2="Ansvarig",$D29,IF($K$2="Status",$E29,IF($K$2="Timmar",IFERROR($H29/($G29-$F29),1),"-")))),"") | P29: =IF(AND(P$9+($K$8/60)/24>=$F29,P$9<=$G29),IF($K$2="Projekt",$B29, IF($K$2="Ansvarig",$D29,IF($K$2="Status",$E29,IF($K$2="Timmar",IFERROR($H29/($G29-$F29),1),"-")))),"") | Q29: =IF(AND(Q$9+($K$8/60)/24>=$F29,Q$9<=$G29),IF($K$2="Projekt",$B29, IF($K$2="Ansvarig",$D29,IF($K$2="Status",$E29,IF($K$2="Timmar",IFERROR($H29/($G29-$F29),1),"-")))),"") | R29: =IF(AND(R$9+($K$8/60)/24>=$F29,R$9<=$G29),IF($K$2="Projekt",$B29, IF($K$2="Ansvarig",$D29,IF($K$2="Status",$E29,IF($K$2="Timmar",IFERROR($H29/($G29-$F29),1),"-")))),"") | S29: =IF(AND(S$9+($K$8/60)/24>=$F29,S$9<=$G29),IF($K$2="Projekt",$B29, IF($K$2="Ansvarig",$D29,IF($K$2="Status",$E29,IF($K$2="Timmar",IFERROR($H29/($G29-$F29),1),"-")))),"") | T29: =IF(AND(T$9+($K$8/60)/24>=$F29,T$9<=$G29),IF($K$2="Projekt",$B29, IF($K$2="Ansvarig",$D29,IF($K$2="Status",$E29,IF($K$2="Timmar",IFERROR($H29/($G29-$F29),1),"-")))),"") | U29: =IF(AND(U$9+($K$8/60)/24>=$F29,U$9<=$G29),IF($K$2="Projekt",$B29, IF($K$2="Ansvarig",$D29,IF($K$2="Status",$E29,IF($K$2="Timmar",IFERROR($H29/($G29-$F29),1),"-")))),"") | V29: =IF(AND(V$9+($K$8/60)/24>=$F29,V$9<=$G29),IF($K$2="Projekt",$B29, IF($K$2="Ansvarig",$D29,IF($K$2="Status",$E29,IF($K$2="Timmar",IFERROR($H29/($G29-$F29),1),"-")))),"") | ... JX29: =IF(AND(JX$9+($K$8/60)/24>=$F29,JX$9<=$G29),IF($K$2="Projekt",$B29, IF($K$2="Ansvarig",$D29,IF($K$2="Status",$E29,IF($K$2="Timmar",IFERROR($H29/($G29-$F29),1),"-")))),"")
B30: Mat & dryck | D30: Total | H30: 2 | O30: =IF(AND(O$9+($K$8/60)/24>=$F30,O$9<=$G30),IF($K$2="Projekt",$B30, IF($K$2="Ansvarig",$D30,IF($K$2="Status",$E30,IF($K$2="Timmar",IFERROR($H30/($G30-$F30),1),"-")))),"") | P30: =IF(AND(P$9+($K$8/60)/24>=$F30,P$9<=$G30),IF($K$2="Projekt",$B30, IF($K$2="Ansvarig",$D30,IF($K$2="Status",$E30,IF($K$2="Timmar",IFERROR($H30/($G30-$F30),1),"-")))),"") | Q30: =IF(AND(Q$9+($K$8/60)/24>=$F30,Q$9<=$G30),IF($K$2="Projekt",$B30, IF($K$2="Ansvarig",$D30,IF($K$2="Status",$E30,IF($K$2="Timmar",IFERROR($H30/($G30-$F30),1),"-")))),"") | R30: =IF(AND(R$9+($K$8/60)/24>=$F30,R$9<=$G30),IF($K$2="Projekt",$B30, IF($K$2="Ansvarig",$D30,IF($K$2="Status",$E30,IF($K$2="Timmar",IFERROR($H30/($G30-$F30),1),"-")))),"") | S30: =IF(AND(S$9+($K$8/60)/24>=$F30,S$9<=$G30),IF($K$2="Projekt",$B30, IF($K$2="Ansvarig",$D30,IF($K$2="Status",$E30,IF($K$2="Timmar",IFERROR($H30/($G30-$F30),1),"-")))),"") | T30: =IF(AND(T$9+($K$8/60)/24>=$F30,T$9<=$G30),IF($K$2="Projekt",$B30, IF($K$2="Ansvarig",$D30,IF($K$2="Status",$E30,IF($K$2="Timmar",IFERROR($H30/($G30-$F30),1),"-")))),"") | U30: =IF(AND(U$9+($K$8/60)/24>=$F30,U$9<=$G30),IF($K$2="Projekt",$B30, IF($K$2="Ansvarig",$D30,IF($K$2="Status",$E30,IF($K$2="Timmar",IFERROR($H30/($G30-$F30),1),"-")))),"") | V30: =IF(AND(V$9+($K$8/60)/24>=$F30,V$9<=$G30),IF($K$2="Projekt",$B30, IF($K$2="Ansvarig",$D30,IF($K$2="Status",$E30,IF($K$2="Timmar",IFERROR($H30/($G30-$F30),1),"-")))),"") | ... JX30: =IF(AND(JX$9+($K$8/60)/24>=$F30,JX$9<=$G30),IF($K$2="Projekt",$B30, IF($K$2="Ansvarig",$D30,IF($K$2="Status",$E30,IF($K$2="Timmar",IFERROR($H30/($G30-$F30),1),"-")))),"")
B31: Catering eller restaurang | D31: KalleOStina | E31: 2_Påbörjad | F31: 46083 | G31: 46097 | H31: 1 | O31: =IF(AND(O$9+($K$8/60)/24>=$F31,O$9<=$G31),IF($K$2="Projekt",$B31, IF($K$2="Ansvarig",$D31,IF($K$2="Status",$E31,IF($K$2="Timmar",IFERROR($H31/($G31-$F31),1),"-")))),"") | P31: =IF(AND(P$9+($K$8/60)/24>=$F31,P$9<=$G31),IF($K$2="Projekt",$B31, IF($K$2="Ansvarig",$D31,IF($K$2="Status",$E31,IF($K$2="Timmar",IFERROR($H31/($G31-$F31),1),"-")))),"") | Q31: =IF(AND(Q$9+($K$8/60)/24>=$F31,Q$9<=$G31),IF($K$2="Projekt",$B31, IF($K$2="Ansvarig",$D31,IF($K$2="Status",$E31,IF($K$2="Timmar",IFERROR($H31/($G31-$F31),1),"-")))),"") | R31: =IF(AND(R$9+($K$8/60)/24>=$F31,R$9<=$G31),IF($K$2="Projekt",$B31, IF($K$2="Ansvarig",$D31,IF($K$2="Status",$E31,IF($K$2="Timmar",IFERROR($H31/($G31-$F31),1),"-")))),"") | S31: =IF(AND(S$9+($K$8/60)/24>=$F31,S$9<=$G31),IF($K$2="Projekt",$B31, IF($K$2="Ansvarig",$D31,IF($K$2="Status",$E31,IF($K$2="Timmar",IFERROR($H31/($G31-$F31),1),"-")))),"") | T31: =IF(AND(T$9+($K$8/60)/24>=$F31,T$9<=$G31),IF($K$2="Projekt",$B31, IF($K$2="Ansvarig",$D31,IF($K$2="Status",$E31,IF($K$2="Timmar",IFERROR($H31/($G31-$F31),1),"-")))),"") | U31: =IF(AND(U$9+($K$8/60)/24>=$F31,U$9<=$G31),IF($K$2="Projekt",$B31, IF($K$2="Ansvarig",$D31,IF($K$2="Status",$E31,IF($K$2="Timmar",IFERROR($H31/($G31-$F31),1),"-")))),"") | V31: =IF(AND(V$9+($K$8/60)/24>=$F31,V$9<=$G31),IF($K$2="Projekt",$B31, IF($K$2="Ansvarig",$D31,IF($K$2="Status",$E31,IF($K$2="Timmar",IFERROR($H31/($G31-$F31),1),"-")))),"") | ... JX31: =IF(AND(JX$9+($K$8/60)/24>=$F31,JX$9<=$G31),IF($K$2="Projekt",$B31, IF($K$2="Ansvarig",$D31,IF($K$2="Status",$E31,IF($K$2="Timmar",IFERROR($H31/($G31-$F31),1),"-")))),"")
B32: Middagsmeny | D32: Planerare | E32: 2_Påbörjad | F32: 46097 | G32: 46118 | H32: 2 | O32: =IF(AND(O$9+($K$8/60)/24>=$F32,O$9<=$G32),IF($K$2="Projekt",$B32, IF($K$2="Ansvarig",$D32,IF($K$2="Status",$E32,IF($K$2="Timmar",IFERROR($H32/($G32-$F32),1),"-")))),"") | P32: =IF(AND(P$9+($K$8/60)/24>=$F32,P$9<=$G32),IF($K$2="Projekt",$B32, IF($K$2="Ansvarig",$D32,IF($K$2="Status",$E32,IF($K$2="Timmar",IFERROR($H32/($G32-$F32),1),"-")))),"") | Q32: =IF(AND(Q$9+($K$8/60)/24>=$F32,Q$9<=$G32),IF($K$2="Projekt",$B32, IF($K$2="Ansvarig",$D32,IF($K$2="Status",$E32,IF($K$2="Timmar",IFERROR($H32/($G32-$F32),1),"-")))),"") | R32: =IF(AND(R$9+($K$8/60)/24>=$F32,R$9<=$G32),IF($K$2="Projekt",$B32, IF($K$2="Ansvarig",$D32,IF($K$2="Status",$E32,IF($K$2="Timmar",IFERROR($H32/($G32-$F32),1),"-")))),"") | S32: =IF(AND(S$9+($K$8/60)/24>=$F32,S$9<=$G32),IF($K$2="Projekt",$B32, IF($K$2="Ansvarig",$D32,IF($K$2="Status",$E32,IF($K$2="Timmar",IFERROR($H32/($G32-$F32),1),"-")))),"") | T32: =IF(AND(T$9+($K$8/60)/24>=$F32,T$9<=$G32),IF($K$2="Projekt",$B32, IF($K$2="Ansvarig",$D32,IF($K$2="Status",$E32,IF($K$2="Timmar",IFERROR($H32/($G32-$F32),1),"-")))),"") | U32: =IF(AND(U$9+($K$8/60)/24>=$F32,U$9<=$G32),IF($K$2="Projekt",$B32, IF($K$2="Ansvarig",$D32,IF($K$2="Status",$E32,IF($K$2="Timmar",IFERROR($H32/($G32-$F32),1),"-")))),"") | V32: =IF(AND(V$9+($K$8/60)/24>=$F32,V$9<=$G32),IF($K$2="Projekt",$B32, IF($K$2="Ansvarig",$D32,IF($K$2="Status",$E32,IF($K$2="Timmar",IFERROR($H32/($G32-$F32),1),"-")))),"") | ... JX32: =IF(AND(JX$9+($K$8/60)/24>=$F32,JX$9<=$G32),IF($K$2="Projekt",$B32, IF($K$2="Ansvarig",$D32,IF($K$2="Status",$E32,IF($K$2="Timmar",IFERROR($H32/($G32-$F32),1),"-")))),"")
B33: Dryckespaket/bar | D33: Planerare | E33: 2_Påbörjad | F33: 46097 | G33: 46118 | H33: 3 | O33: =IF(AND(O$9+($K$8/60)/24>=$F33,O$9<=$G33),IF($K$2="Projekt",$B33, IF($K$2="Ansvarig",$D33,IF($K$2="Status",$E33,IF($K$2="Timmar",IFERROR($H33/($G33-$F33),1),"-")))),"") | P33: =IF(AND(P$9+($K$8/60)/24>=$F33,P$9<=$G33),IF($K$2="Projekt",$B33, IF($K$2="Ansvarig",$D33,IF($K$2="Status",$E33,IF($K$2="Timmar",IFERROR($H33/($G33-$F33),1),"-")))),"") | Q33: =IF(AND(Q$9+($K$8/60)/24>=$F33,Q$9<=$G33),IF($K$2="Projekt",$B33, IF($K$2="Ansvarig",$D33,IF($K$2="Status",$E33,IF($K$2="Timmar",IFERROR($H33/($G33-$F33),1),"-")))),"") | R33: =IF(AND(R$9+($K$8/60)/24>=$F33,R$9<=$G33),IF($K$2="Projekt",$B33, IF($K$2="Ansvarig",$D33,IF($K$2="Status",$E33,IF($K$2="Timmar",IFERROR($H33/($G33-$F33),1),"-")))),"") | S33: =IF(AND(S$9+($K$8/60)/24>=$F33,S$9<=$G33),IF($K$2="Projekt",$B33, IF($K$2="Ansvarig",$D33,IF($K$2="Status",$E33,IF($K$2="Timmar",IFERROR($H33/($G33-$F33),1),"-")))),"") | T33: =IF(AND(T$9+($K$8/60)/24>=$F33,T$9<=$G33),IF($K$2="Projekt",$B33, IF($K$2="Ansvarig",$D33,IF($K$2="Status",$E33,IF($K$2="Timmar",IFERROR($H33/($G33-$F33),1),"-")))),"") | U33: =IF(AND(U$9+($K$8/60)/24>=$F33,U$9<=$G33),IF($K$2="Projekt",$B33, IF($K$2="Ansvarig",$D33,IF($K$2="Status",$E33,IF($K$2="Timmar",IFERROR($H33/($G33-$F33),1),"-")))),"") | V33: =IF(AND(V$9+($K$8/60)/24>=$F33,V$9<=$G33),IF($K$2="Projekt",$B33, IF($K$2="Ansvarig",$D33,IF($K$2="Status",$E33,IF($K$2="Timmar",IFERROR($H33/($G33-$F33),1),"-")))),"") | ... JX33: =IF(AND(JX$9+($K$8/60)/24>=$F33,JX$9<=$G33),IF($K$2="Projekt",$B33, IF($K$2="Ansvarig",$D33,IF($K$2="Status",$E33,IF($K$2="Timmar",IFERROR($H33/($G33-$F33),1),"-")))),"")
B34: Bröllopstårta eller dessert | D34: Planerare | E34: 2_Påbörjad | F34: 46097 | G34: 46118 | H34: 4 | O34: =IF(AND(O$9+($K$8/60)/24>=$F34,O$9<=$G34),IF($K$2="Projekt",$B34, IF($K$2="Ansvarig",$D34,IF($K$2="Status",$E34,IF($K$2="Timmar",IFERROR($H34/($G34-$F34),1),"-")))),"") | P34: =IF(AND(P$9+($K$8/60)/24>=$F34,P$9<=$G34),IF($K$2="Projekt",$B34, IF($K$2="Ansvarig",$D34,IF($K$2="Status",$E34,IF($K$2="Timmar",IFERROR($H34/($G34-$F34),1),"-")))),"") | Q34: =IF(AND(Q$9+($K$8/60)/24>=$F34,Q$9<=$G34),IF($K$2="Projekt",$B34, IF($K$2="Ansvarig",$D34,IF($K$2="Status",$E34,IF($K$2="Timmar",IFERROR($H34/($G34-$F34),1),"-")))),"") | R34: =IF(AND(R$9+($K$8/60)/24>=$F34,R$9<=$G34),IF($K$2="Projekt",$B34, IF($K$2="Ansvarig",$D34,IF($K$2="Status",$E34,IF($K$2="Timmar",IFERROR($H34/($G34-$F34),1),"-")))),"") | S34: =IF(AND(S$9+($K$8/60)/24>=$F34,S$9<=$G34),IF($K$2="Projekt",$B34, IF($K$2="Ansvarig",$D34,IF($K$2="Status",$E34,IF($K$2="Timmar",IFERROR($H34/($G34-$F34),1),"-")))),"") | T34: =IF(AND(T$9+($K$8/60)/24>=$F34,T$9<=$G34),IF($K$2="Projekt",$B34, IF($K$2="Ansvarig",$D34,IF($K$2="Status",$E34,IF($K$2="Timmar",IFERROR($H34/($G34-$F34),1),"-")))),"") | U34: =IF(AND(U$9+($K$8/60)/24>=$F34,U$9<=$G34),IF($K$2="Projekt",$B34, IF($K$2="Ansvarig",$D34,IF($K$2="Status",$E34,IF($K$2="Timmar",IFERROR($H34/($G34-$F34),1),"-")))),"") | V34: =IF(AND(V$9+($K$8/60)/24>=$F34,V$9<=$G34),IF($K$2="Projekt",$B34, IF($K$2="Ansvarig",$D34,IF($K$2="Status",$E34,IF($K$2="Timmar",IFERROR($H34/($G34-$F34),1),"-")))),"") | ... JX34: =IF(AND(JX$9+($K$8/60)/24>=$F34,JX$9<=$G34),IF($K$2="Projekt",$B34, IF($K$2="Ansvarig",$D34,IF($K$2="Status",$E34,IF($K$2="Timmar",IFERROR($H34/($G34-$F34),1),"-")))),"")
B35: Snacks/nattmat | D35: Planerare | E35: 1_Tilldelad | F35: 46097 | G35: 46118 | H35: 2 | O35: =IF(AND(O$9+($K$8/60)/24>=$F35,O$9<=$G35),IF($K$2="Projekt",$B35, IF($K$2="Ansvarig",$D35,IF($K$2="Status",$E35,IF($K$2="Timmar",IFERROR($H35/($G35-$F35),1),"-")))),"") | P35: =IF(AND(P$9+($K$8/60)/24>=$F35,P$9<=$G35),IF($K$2="Projekt",$B35, IF($K$2="Ansvarig",$D35,IF($K$2="Status",$E35,IF($K$2="Timmar",IFERROR($H35/($G35-$F35),1),"-")))),"") | Q35: =IF(AND(Q$9+($K$8/60)/24>=$F35,Q$9<=$G35),IF($K$2="Projekt",$B35, IF($K$2="Ansvarig",$D35,IF($K$2="Status",$E35,IF($K$2="Timmar",IFERROR($H35/($G35-$F35),1),"-")))),"") | R35: =IF(AND(R$9+($K$8/60)/24>=$F35,R$9<=$G35),IF($K$2="Projekt",$B35, IF($K$2="Ansvarig",$D35,IF($K$2="Status",$E35,IF($K$2="Timmar",IFERROR($H35/($G35-$F35),1),"-")))),"") | S35: =IF(AND(S$9+($K$8/60)/24>=$F35,S$9<=$G35),IF($K$2="Projekt",$B35, IF($K$2="Ansvarig",$D35,IF($K$2="Status",$E35,IF($K$2="Timmar",IFERROR($H35/($G35-$F35),1),"-")))),"") | T35: =IF(AND(T$9+($K$8/60)/24>=$F35,T$9<=$G35),IF($K$2="Projekt",$B35, IF($K$2="Ansvarig",$D35,IF($K$2="Status",$E35,IF($K$2="Timmar",IFERROR($H35/($G35-$F35),1),"-")))),"") | U35: =IF(AND(U$9+($K$8/60)/24>=$F35,U$9<=$G35),IF($K$2="Projekt",$B35, IF($K$2="Ansvarig",$D35,IF($K$2="Status",$E35,IF($K$2="Timmar",IFERROR($H35/($G35-$F35),1),"-")))),"") | V35: =IF(AND(V$9+($K$8/60)/24>=$F35,V$9<=$G35),IF($K$2="Projekt",$B35, IF($K$2="Ansvarig",$D35,IF($K$2="Status",$E35,IF($K$2="Timmar",IFERROR($H35/($G35-$F35),1),"-")))),"") | ... JX35: =IF(AND(JX$9+($K$8/60)/24>=$F35,JX$9<=$G35),IF($K$2="Projekt",$B35, IF($K$2="Ansvarig",$D35,IF($K$2="Status",$E35,IF($K$2="Timmar",IFERROR($H35/($G35-$F35),1),"-")))),"")
B36: Godkännande | D36: KalleOStina | E36: 1_Tilldelad | F36: 46118 | G36: 46139 | H36: 3 | O36: =IF(AND(O$9+($K$8/60)/24>=$F36,O$9<=$G36),IF($K$2="Projekt",$B36, IF($K$2="Ansvarig",$D36,IF($K$2="Status",$E36,IF($K$2="Timmar",IFERROR($H36/($G36-$F36),1),"-")))),"") | P36: =IF(AND(P$9+($K$8/60)/24>=$F36,P$9<=$G36),IF($K$2="Projekt",$B36, IF($K$2="Ansvarig",$D36,IF($K$2="Status",$E36,IF($K$2="Timmar",IFERROR($H36/($G36-$F36),1),"-")))),"") | Q36: =IF(AND(Q$9+($K$8/60)/24>=$F36,Q$9<=$G36),IF($K$2="Projekt",$B36, IF($K$2="Ansvarig",$D36,IF($K$2="Status",$E36,IF($K$2="Timmar",IFERROR($H36/($G36-$F36),1),"-")))),"") | R36: =IF(AND(R$9+($K$8/60)/24>=$F36,R$9<=$G36),IF($K$2="Projekt",$B36, IF($K$2="Ansvarig",$D36,IF($K$2="Status",$E36,IF($K$2="Timmar",IFERROR($H36/($G36-$F36),1),"-")))),"") | S36: =IF(AND(S$9+($K$8/60)/24>=$F36,S$9<=$G36),IF($K$2="Projekt",$B36, IF($K$2="Ansvarig",$D36,IF($K$2="Status",$E36,IF($K$2="Timmar",IFERROR($H36/($G36-$F36),1),"-")))),"") | T36: =IF(AND(T$9+($K$8/60)/24>=$F36,T$9<=$G36),IF($K$2="Projekt",$B36, IF($K$2="Ansvarig",$D36,IF($K$2="Status",$E36,IF($K$2="Timmar",IFERROR($H36/($G36-$F36),1),"-")))),"") | U36: =IF(AND(U$9+($K$8/60)/24>=$F36,U$9<=$G36),IF($K$2="Projekt",$B36, IF($K$2="Ansvarig",$D36,IF($K$2="Status",$E36,IF($K$2="Timmar",IFERROR($H36/($G36-$F36),1),"-")))),"") | V36: =IF(AND(V$9+($K$8/60)/24>=$F36,V$9<=$G36),IF($K$2="Projekt",$B36, IF($K$2="Ansvarig",$D36,IF($K$2="Status",$E36,IF($K$2="Timmar",IFERROR($H36/($G36-$F36),1),"-")))),"") | ... JX36: =IF(AND(JX$9+($K$8/60)/24>=$F36,JX$9<=$G36),IF($K$2="Projekt",$B36, IF($K$2="Ansvarig",$D36,IF($K$2="Status",$E36,IF($K$2="Timmar",IFERROR($H36/($G36-$F36),1),"-")))),"")
H37: 4 | O37: =IF(AND(O$9+($K$8/60)/24>=$F37,O$9<=$G37),IF($K$2="Projekt",$B37, IF($K$2="Ansvarig",$D37,IF($K$2="Status",$E37,IF($K$2="Timmar",IFERROR($H37/($G37-$F37),1),"-")))),"") | P37: =IF(AND(P$9+($K$8/60)/24>=$F37,P$9<=$G37),IF($K$2="Projekt",$B37, IF($K$2="Ansvarig",$D37,IF($K$2="Status",$E37,IF($K$2="Timmar",IFERROR($H37/($G37-$F37),1),"-")))),"") | Q37: =IF(AND(Q$9+($K$8/60)/24>=$F37,Q$9<=$G37),IF($K$2="Projekt",$B37, IF($K$2="Ansvarig",$D37,IF($K$2="Status",$E37,IF($K$2="Timmar",IFERROR($H37/($G37-$F37),1),"-")))),"") | R37: =IF(AND(R$9+($K$8/60)/24>=$F37,R$9<=$G37),IF($K$2="Projekt",$B37, IF($K$2="Ansvarig",$D37,IF($K$2="Status",$E37,IF($K$2="Timmar",IFERROR($H37/($G37-$F37),1),"-")))),"") | S37: =IF(AND(S$9+($K$8/60)/24>=$F37,S$9<=$G37),IF($K$2="Projekt",$B37, IF($K$2="Ansvarig",$D37,IF($K$2="Status",$E37,IF($K$2="Timmar",IFERROR($H37/($G37-$F37),1),"-")))),"") | T37: =IF(AND(T$9+($K$8/60)/24>=$F37,T$9<=$G37),IF($K$2="Projekt",$B37, IF($K$2="Ansvarig",$D37,IF($K$2="Status",$E37,IF($K$2="Timmar",IFERROR($H37/($G37-$F37),1),"-")))),"") | U37: =IF(AND(U$9+($K$8/60)/24>=$F37,U$9<=$G37),IF($K$2="Projekt",$B37, IF($K$2="Ansvarig",$D37,IF($K$2="Status",$E37,IF($K$2="Timmar",IFERROR($H37/($G37-$F37),1),"-")))),"") | V37: =IF(AND(V$9+($K$8/60)/24>=$F37,V$9<=$G37),IF($K$2="Projekt",$B37, IF($K$2="Ansvarig",$D37,IF($K$2="Status",$E37,IF($K$2="Timmar",IFERROR($H37/($G37-$F37),1),"-")))),"") | ... JX37: =IF(AND(JX$9+($K$8/60)/24>=$F37,JX$9<=$G37),IF($K$2="Projekt",$B37, IF($K$2="Ansvarig",$D37,IF($K$2="Status",$E37,IF($K$2="Timmar",IFERROR($H37/($G37-$F37),1),"-")))),"")
B38: Brudklänning/kostym | D38: Stina | E38: 97_InväntarSvar | F38: 46146 | G38: 46167 | H38: 2 | O38: =IF(AND(O$9+($K$8/60)/24>=$F38,O$9<=$G38),IF($K$2="Projekt",$B38, IF($K$2="Ansvarig",$D38,IF($K$2="Status",$E38,IF($K$2="Timmar",IFERROR($H38/($G38-$F38),1),"-")))),"") | P38: =IF(AND(P$9+($K$8/60)/24>=$F38,P$9<=$G38),IF($K$2="Projekt",$B38, IF($K$2="Ansvarig",$D38,IF($K$2="Status",$E38,IF($K$2="Timmar",IFERROR($H38/($G38-$F38),1),"-")))),"") | Q38: =IF(AND(Q$9+($K$8/60)/24>=$F38,Q$9<=$G38),IF($K$2="Projekt",$B38, IF($K$2="Ansvarig",$D38,IF($K$2="Status",$E38,IF($K$2="Timmar",IFERROR($H38/($G38-$F38),1),"-")))),"") | R38: =IF(AND(R$9+($K$8/60)/24>=$F38,R$9<=$G38),IF($K$2="Projekt",$B38, IF($K$2="Ansvarig",$D38,IF($K$2="Status",$E38,IF($K$2="Timmar",IFERROR($H38/($G38-$F38),1),"-")))),"") | S38: =IF(AND(S$9+($K$8/60)/24>=$F38,S$9<=$G38),IF($K$2="Projekt",$B38, IF($K$2="Ansvarig",$D38,IF($K$2="Status",$E38,IF($K$2="Timmar",IFERROR($H38/($G38-$F38),1),"-")))),"") | T38: =IF(AND(T$9+($K$8/60)/24>=$F38,T$9<=$G38),IF($K$2="Projekt",$B38, IF($K$2="Ansvarig",$D38,IF($K$2="Status",$E38,IF($K$2="Timmar",IFERROR($H38/($G38-$F38),1),"-")))),"") | U38: =IF(AND(U$9+($K$8/60)/24>=$F38,U$9<=$G38),IF($K$2="Projekt",$B38, IF($K$2="Ansvarig",$D38,IF($K$2="Status",$E38,IF($K$2="Timmar",IFERROR($H38/($G38-$F38),1),"-")))),"") | V38: =IF(AND(V$9+($K$8/60)/24>=$F38,V$9<=$G38),IF($K$2="Projekt",$B38, IF($K$2="Ansvarig",$D38,IF($K$2="Status",$E38,IF($K$2="Timmar",IFERROR($H38/($G38-$F38),1),"-")))),"") | ... JX38: =IF(AND(JX$9+($K$8/60)/24>=$F38,JX$9<=$G38),IF($K$2="Projekt",$B38, IF($K$2="Ansvarig",$D38,IF($K$2="Status",$E38,IF($K$2="Timmar",IFERROR($H38/($G38-$F38),1),"-")))),"")
B39: Skor och accessoarer | D39: Kalle | E39: 97_InväntarSvar | F39: 46146 | G39: 46167 | H39: 3 | O39: =IF(AND(O$9+($K$8/60)/24>=$F39,O$9<=$G39),IF($K$2="Projekt",$B39, IF($K$2="Ansvarig",$D39,IF($K$2="Status",$E39,IF($K$2="Timmar",IFERROR($H39/($G39-$F39),1),"-")))),"") | P39: =IF(AND(P$9+($K$8/60)/24>=$F39,P$9<=$G39),IF($K$2="Projekt",$B39, IF($K$2="Ansvarig",$D39,IF($K$2="Status",$E39,IF($K$2="Timmar",IFERROR($H39/($G39-$F39),1),"-")))),"") | Q39: =IF(AND(Q$9+($K$8/60)/24>=$F39,Q$9<=$G39),IF($K$2="Projekt",$B39, IF($K$2="Ansvarig",$D39,IF($K$2="Status",$E39,IF($K$2="Timmar",IFERROR($H39/($G39-$F39),1),"-")))),"") | R39: =IF(AND(R$9+($K$8/60)/24>=$F39,R$9<=$G39),IF($K$2="Projekt",$B39, IF($K$2="Ansvarig",$D39,IF($K$2="Status",$E39,IF($K$2="Timmar",IFERROR($H39/($G39-$F39),1),"-")))),"") | S39: =IF(AND(S$9+($K$8/60)/24>=$F39,S$9<=$G39),IF($K$2="Projekt",$B39, IF($K$2="Ansvarig",$D39,IF($K$2="Status",$E39,IF($K$2="Timmar",IFERROR($H39/($G39-$F39),1),"-")))),"") | T39: =IF(AND(T$9+($K$8/60)/24>=$F39,T$9<=$G39),IF($K$2="Projekt",$B39, IF($K$2="Ansvarig",$D39,IF($K$2="Status",$E39,IF($K$2="Timmar",IFERROR($H39/($G39-$F39),1),"-")))),"") | U39: =IF(AND(U$9+($K$8/60)/24>=$F39,U$9<=$G39),IF($K$2="Projekt",$B39, IF($K$2="Ansvarig",$D39,IF($K$2="Status",$E39,IF($K$2="Timmar",IFERROR($H39/($G39-$F39),1),"-")))),"") | V39: =IF(AND(V$9+($K$8/60)/24>=$F39,V$9<=$G39),IF($K$2="Projekt",$B39, IF($K$2="Ansvarig",$D39,IF($K$2="Status",$E39,IF($K$2="Timmar",IFERROR($H39/($G39-$F39),1),"-")))),"") | ... JX39: =IF(AND(JX$9+($K$8/60)/24>=$F39,JX$9<=$G39),IF($K$2="Projekt",$B39, IF($K$2="Ansvarig",$D39,IF($K$2="Status",$E39,IF($K$2="Timmar",IFERROR($H39/($G39-$F39),1),"-")))),"")
B40: Smycken | D40: Stina | E40: 97_InväntarSvar | F40: 46146 | G40: 46167 | H40: 4 | O40: =IF(AND(O$9+($K$8/60)/24>=$F40,O$9<=$G40),IF($K$2="Projekt",$B40, IF($K$2="Ansvarig",$D40,IF($K$2="Status",$E40,IF($K$2="Timmar",IFERROR($H40/($G40-$F40),1),"-")))),"") | P40: =IF(AND(P$9+($K$8/60)/24>=$F40,P$9<=$G40),IF($K$2="Projekt",$B40, IF($K$2="Ansvarig",$D40,IF($K$2="Status",$E40,IF($K$2="Timmar",IFERROR($H40/($G40-$F40),1),"-")))),"") | Q40: =IF(AND(Q$9+($K$8/60)/24>=$F40,Q$9<=$G40),IF($K$2="Projekt",$B40, IF($K$2="Ansvarig",$D40,IF($K$2="Status",$E40,IF($K$2="Timmar",IFERROR($H40/($G40-$F40),1),"-")))),"") | R40: =IF(AND(R$9+($K$8/60)/24>=$F40,R$9<=$G40),IF($K$2="Projekt",$B40, IF($K$2="Ansvarig",$D40,IF($K$2="Status",$E40,IF($K$2="Timmar",IFERROR($H40/($G40-$F40),1),"-")))),"") | S40: =IF(AND(S$9+($K$8/60)/24>=$F40,S$9<=$G40),IF($K$2="Projekt",$B40, IF($K$2="Ansvarig",$D40,IF($K$2="Status",$E40,IF($K$2="Timmar",IFERROR($H40/($G40-$F40),1),"-")))),"") | T40: =IF(AND(T$9+($K$8/60)/24>=$F40,T$9<=$G40),IF($K$2="Projekt",$B40, IF($K$2="Ansvarig",$D40,IF($K$2="Status",$E40,IF($K$2="Timmar",IFERROR($H40/($G40-$F40),1),"-")))),"") | U40: =IF(AND(U$9+($K$8/60)/24>=$F40,U$9<=$G40),IF($K$2="Projekt",$B40, IF($K$2="Ansvarig",$D40,IF($K$2="Status",$E40,IF($K$2="Timmar",IFERROR($H40/($G40-$F40),1),"-")))),"") | V40: =IF(AND(V$9+($K$8/60)/24>=$F40,V$9<=$G40),IF($K$2="Projekt",$B40, IF($K$2="Ansvarig",$D40,IF($K$2="Status",$E40,IF($K$2="Timmar",IFERROR($H40/($G40-$F40),1),"-")))),"") | ... JX40: =IF(AND(JX$9+($K$8/60)/24>=$F40,JX$9<=$G40),IF($K$2="Projekt",$B40, IF($K$2="Ansvarig",$D40,IF($K$2="Status",$E40,IF($K$2="Timmar",IFERROR($H40/($G40-$F40),1),"-")))),"")
...

Sheet TimPlanering
M1: 1_Tilldelad | N1: Övrigt | O1: =COUNTIFS(O$11:O$58,$N1) -> 0 | P1: =COUNTIFS(P$11:P$58,$N1) -> 0 | Q1: =COUNTIFS(Q$11:Q$58,$N1) -> 1 | R1: =COUNTIFS(R$11:R$58,$N1) -> 2 | S1: =COUNTIFS(S$11:S$58,$N1) -> 1 | T1: =COUNTIFS(T$11:T$58,$N1) -> 1 | U1: =COUNTIFS(U$11:U$58,$N1) -> 0 | V1: =COUNTIFS(V$11:V$58,$N1) -> 0 | ... BW1: =COUNTIFS(BW$11:BW$58,$N1) -> 0
M2: 2_Påbörjad | N2: Servering | O2: =COUNTIFS(O$11:O$58,$N2) -> 0 | P2: =COUNTIFS(P$11:P$58,$N2) -> 0 | Q2: =COUNTIFS(Q$11:Q$58,$N2) -> 0 | R2: =COUNTIFS(R$11:R$58,$N2) -> 0 | S2: =COUNTIFS(S$11:S$58,$N2) -> 1 | T2: =COUNTIFS(T$11:T$58,$N2) -> 2 | U2: =COUNTIFS(U$11:U$58,$N2) -> 3 | V2: =COUNTIFS(V$11:V$58,$N2) -> 2 | ... BW2: =COUNTIFS(BW$11:BW$58,$N2) -> 0
M3: 6_Avslutad | N3: Gäster | O3: =COUNTIFS(O$11:O$58,$N3) -> 0 | P3: =COUNTIFS(P$11:P$58,$N3) -> 0 | Q3: =COUNTIFS(Q$11:Q$58,$N3) -> 0 | R3: =COUNTIFS(R$11:R$58,$N3) -> 0 | S3: =COUNTIFS(S$11:S$58,$N3) -> 0 | T3: =COUNTIFS(T$11:T$58,$N3) -> 0 | U3: =COUNTIFS(U$11:U$58,$N3) -> 0 | V3: =COUNTIFS(V$11:V$58,$N3) -> 0 | ... BW3: =COUNTIFS(BW$11:BW$58,$N3) -> 0
A4: SAVED | B4: 45348.44 | M4: 97_InväntarSvar | N4: Underhållning | O4: =COUNTIFS(O$11:O$58,$N4) -> 0 | P4: =COUNTIFS(P$11:P$58,$N4) -> 0 | Q4: =COUNTIFS(Q$11:Q$58,$N4) -> 1 | R4: =COUNTIFS(R$11:R$58,$N4) -> 2 | S4: =COUNTIFS(S$11:S$58,$N4) -> 4 | T4: =COUNTIFS(T$11:T$58,$N4) -> 2 | U4: =COUNTIFS(U$11:U$58,$N4) -> 1 | V4: =COUNTIFS(V$11:V$58,$N4) -> 1 | ... BW4: =COUNTIFS(BW$11:BW$58,$N4) -> 0
A5: LOAD | B5: 45348.441 | K5: Startid | M5: 50_Saknas | N5: Personal | O5: =COUNTIFS(O$11:O$58,$N5) -> 0 | P5: =COUNTIFS(P$11:P$58,$N5) -> 0 | Q5: =COUNTIFS(Q$11:Q$58,$N5) -> 0 | R5: =COUNTIFS(R$11:R$58,$N5) -> 0 | S5: =COUNTIFS(S$11:S$58,$N5) -> 0 | T5: =COUNTIFS(T$11:T$58,$N5) -> 0 | U5: =COUNTIFS(U$11:U$58,$N5) -> 0 | V5: =COUNTIFS(V$11:V$58,$N5) -> 0 | ... BW5: =COUNTIFS(BW$11:BW$58,$N5) -> 0
K6: 0.75 | M6: 98_ErbjudandeSkickat | N6: Funktion2 | O6: =COUNTIFS(O$11:O$58,$N6) -> 0 | P6: =COUNTIFS(P$11:P$58,$N6) -> 0 | Q6: =COUNTIFS(Q$11:Q$58,$N6) -> 0 | R6: =COUNTIFS(R$11:R$58,$N6) -> 0 | S6: =COUNTIFS(S$11:S$58,$N6) -> 0 | T6: =COUNTIFS(T$11:T$58,$N6) -> 0 | U6: =COUNTIFS(U$11:U$58,$N6) -> 0 | V6: =COUNTIFS(V$11:V$58,$N6) -> 0 | ... BW6: =COUNTIFS(BW$11:BW$58,$N6) -> 0
K7: Tidsintervall | M7: 99_Avstyrt | N7: Funktion3 | O7: =COUNTIFS(O$11:O$58,$N7) -> 0 | P7: =COUNTIFS(P$11:P$58,$N7) -> 0 | Q7: =COUNTIFS(Q$11:Q$58,$N7) -> 0 | R7: =COUNTIFS(R$11:R$58,$N7) -> 0 | S7: =COUNTIFS(S$11:S$58,$N7) -> 0 | T7: =COUNTIFS(T$11:T$58,$N7) -> 0 | U7: =COUNTIFS(U$11:U$58,$N7) -> 0 | V7: =COUNTIFS(V$11:V$58,$N7) -> 0 | ... BW7: =COUNTIFS(BW$11:BW$58,$N7) -> 0
K8: 10 | M8: 0_Problem | N8: Total
N9: =IFERROR(IF(SUM(W9:AB9)>0,1,IF(SUM(P9:U9)>0,0.5,0)),"") -> 1 | O9: =K6 -> 0.75 | P9: =O9+($K$8/60)/24 -> 0.75694444 | Q9: =P9+($K$8/60)/24 -> 0.76388889 | R9: =Q9+($K$8/60)/24 -> 0.77083333 | S9: =R9+($K$8/60)/24 -> 0.77777778 | T9: =S9+($K$8/60)/24 -> 0.78472222 | U9: =T9+($K$8/60)/24 -> 0.79166667 | V9: =U9+($K$8/60)/24 -> 0.79861111 | W9: =V9+($K$8/60)/24 -> 0.80555556 | ... BW9: =BV9+($K$8/60)/24 -> 1.1666667
A10: _Key | B10: Projekt | C10: Namn | D10: Ansvarig | E10: Status | F10: StarTid | G10: SlutTid | H10: Timmar | I10: Kategori | J10: Plannerat Datum | K10: Kommentar | L10: Prio | M10: Beskrivning | O10: =HOUR(O9) -> 18 | P10: =IF(MINUTE(O9+($K$8/60)/24)=0,HOUR(O9+($K$8/60)/24),MINUTE(O9+($K$8/60)/24)) -> 10 | Q10: =IF(MINUTE(P9+($K$8/60)/24)=0,HOUR(P9+($K$8/60)/24),MINUTE(P9+($K$8/60)/24)) -> 20 | R10: =IF(MINUTE(Q9+($K$8/60)/24)=0,HOUR(Q9+($K$8/60)/24),MINUTE(Q9+($K$8/60)/24)) -> 30 | S10: =IF(MINUTE(R9+($K$8/60)/24)=0,HOUR(R9+($K$8/60)/24),MINUTE(R9+($K$8/60)/24)) -> 40 | T10: =IF(MINUTE(S9+($K$8/60)/24)=0,HOUR(S9+($K$8/60)/24),MINUTE(S9+($K$8/60)/24)) -> 50 | U10: =IF(MINUTE(T9+($K$8/60)/24)=0,HOUR(T9+($K$8/60)/24),MINUTE(T9+($K$8/60)/24)) -> 19 | V10: =IF(MINUTE(U9+($K$8/60)/24)=0,HOUR(U9+($K$8/60)/24),MINUTE(U9+($K$8/60)/24)) -> 10 | W10: =IF(MINUTE(V9+($K$8/60)/24)=0,HOUR(V9+($K$8/60)/24),MINUTE(V9+($K$8/60)/24)) -> 20 | ... BW10: =IF(MINUTE(BV9+($K$8/60)/24)=0,HOUR(BV9+($K$8/60)/24),MINUTE(BV9+($K$8/60)/24)) -> 4
